BEGIN:VCALENDAR
VERSION:2.0
PRODID:-//Science for Georgia - ECPv6.15.20//NONSGML v1.0//EN
CALSCALE:GREGORIAN
METHOD:PUBLISH
X-WR-CALNAME:Science for Georgia
X-ORIGINAL-URL:https://scienceforgeorgia.org
X-WR-CALDESC:Events for Science for Georgia
REFRESH-INTERVAL;VALUE=DURATION:PT1H
X-Robots-Tag:noindex
X-PUBLISHED-TTL:PT1H
BEGIN:VTIMEZONE
TZID:America/New_York
BEGIN:DAYLIGHT
TZOFFSETFROM:-0500
TZOFFSETTO:-0400
TZNAME:EDT
DTSTART:20230312T070000
END:DAYLIGHT
BEGIN:STANDARD
TZOFFSETFROM:-0400
TZOFFSETTO:-0500
TZNAME:EST
DTSTART:20231105T060000
END:STANDARD
BEGIN:DAYLIGHT
TZOFFSETFROM:-0500
TZOFFSETTO:-0400
TZNAME:EDT
DTSTART:20240310T070000
END:DAYLIGHT
BEGIN:STANDARD
TZOFFSETFROM:-0400
TZOFFSETTO:-0500
TZNAME:EST
DTSTART:20241103T060000
END:STANDARD
BEGIN:DAYLIGHT
TZOFFSETFROM:-0500
TZOFFSETTO:-0400
TZNAME:EDT
DTSTART:20250309T070000
END:DAYLIGHT
BEGIN:STANDARD
TZOFFSETFROM:-0400
TZOFFSETTO:-0500
TZNAME:EST
DTSTART:20251102T060000
END:STANDARD
END:VTIMEZONE
BEGIN:VEVENT
DTSTART;TZID=America/New_York:20241116T100000
DTEND;TZID=America/New_York:20241116T133000
DTSTAMP:20260421T094545
CREATED:20240927T143926Z
LAST-MODIFIED:20241028T182807Z
UID:10000148-1731751200-1731763800@scienceforgeorgia.org
SUMMARY:Forensic Microscopy Murder Mystery
DESCRIPTION:This is a limited attendance event! There are only 15 spots available for this unique experience. \nDate: Saturday\, Nov 16th \nTime: 10am to 1:30pm \nLocation: MVA Scientific Consultants\, 3300 Breckinridge Blvd # 400\, Duluth\, GA 30096 \nClass size: 15 people (limited number of scopes) \n  \nCrime story: Someone broke in and left brownies. The victim’s sweet tooth is their main weakness\, so they ate them without any questions. They died doing what they loved from poison (their other weakness) in the brownies. \nSummary of event: \nA murder most fowl has occurred! It was death by chocolate from poisoned brownies\, which the victim could not resist. Microscopes can crack the case! \nJoin Georgia Microscopical Society (GMS) at the crime scene and microscopes to determine the which suspect is guilty. Learn from forensic microscopist how to collect\, prepare\, and analyze the evidence. You will examine trace evidence like hair\, fibers\, dust and (dun\, dun\, duuun!) poison to identify and compare to suspects using a range of microscopy methods from polarized light microcopy to microchemical test. Murders are no match against a skilled microscopist! \nThis Event will be hosted by MVA Scientific Consultants\, a microscopy lab\, and will be on Saturday November 16th starting at 10:00 am.  Free brownies are included (eat at your own risk). \n  \nScience of Redistricting
URL:https://scienceforgeorgia.org/event/forensic-microscopy-murder-mystery/
LOCATION:MVA Scienctific Consultants\, 3300 Breckinridge Blvd # 400\, Duluth\, GA\, 30096
CATEGORIES:Partner Event
ATTACH;FMTTYPE=image/jpeg:https://scienceforgeorgia.org/wp-content/uploads/2024/09/Murder-Mystery.jpg
ORGANIZER;CN="Science for Georgia%2C Inc.":MAILTO:info@sci4ga.org
END:VEVENT
END:VCALENDAR