BEGIN:VCALENDAR
VERSION:2.0
PRODID:-//Science for Georgia - ECPv6.15.20//NONSGML v1.0//EN
CALSCALE:GREGORIAN
METHOD:PUBLISH
X-ORIGINAL-URL:https://scienceforgeorgia.org
X-WR-CALDESC:Events for Science for Georgia
REFRESH-INTERVAL;VALUE=DURATION:PT1H
X-Robots-Tag:noindex
X-PUBLISHED-TTL:PT1H
BEGIN:VTIMEZONE
TZID:America/New_York
BEGIN:DAYLIGHT
TZOFFSETFROM:-0500
TZOFFSETTO:-0400
TZNAME:EDT
DTSTART:20260308T070000
END:DAYLIGHT
BEGIN:STANDARD
TZOFFSETFROM:-0400
TZOFFSETTO:-0500
TZNAME:EST
DTSTART:20261101T060000
END:STANDARD
BEGIN:DAYLIGHT
TZOFFSETFROM:-0500
TZOFFSETTO:-0400
TZNAME:EDT
DTSTART:20270314T070000
END:DAYLIGHT
BEGIN:STANDARD
TZOFFSETFROM:-0400
TZOFFSETTO:-0500
TZNAME:EST
DTSTART:20271107T060000
END:STANDARD
BEGIN:DAYLIGHT
TZOFFSETFROM:-0500
TZOFFSETTO:-0400
TZNAME:EDT
DTSTART:20280312T070000
END:DAYLIGHT
BEGIN:STANDARD
TZOFFSETFROM:-0400
TZOFFSETTO:-0500
TZNAME:EST
DTSTART:20281105T060000
END:STANDARD
BEGIN:DAYLIGHT
TZOFFSETFROM:-0500
TZOFFSETTO:-0400
TZNAME:EDT
DTSTART:20290311T070000
END:DAYLIGHT
BEGIN:STANDARD
TZOFFSETFROM:-0400
TZOFFSETTO:-0500
TZNAME:EST
DTSTART:20291104T060000
END:STANDARD
BEGIN:DAYLIGHT
TZOFFSETFROM:-0500
TZOFFSETTO:-0400
TZNAME:EDT
DTSTART:20300310T070000
END:DAYLIGHT
BEGIN:STANDARD
TZOFFSETFROM:-0400
TZOFFSETTO:-0500
TZNAME:EST
DTSTART:20301103T060000
END:STANDARD
END:VTIMEZONE
BEGIN:VEVENT
DTSTART;TZID=America/New_York:20270425T150000
DTEND;TZID=America/New_York:20270425T170000
DTSTAMP:20260424T054852
CREATED:20260201T184338Z
LAST-MODIFIED:20260317T191709Z
UID:10000629-1808665200-1808672400@scienceforgeorgia.org
SUMMARY:CST: Monthly Meetup
DESCRIPTION:Every 4th Sunday\n3-5pm\nLake Claire Community Land Trust – 270 Arizona Ave NE\, Atlanta\, GA 30307 \nThis is going to become our monthly event at the same location to keep educating ourselves and sharing skills while also mingling\, growing our connections\, and talking about our needs and visions for a more stable future. Come hang out! \n  \nSign up to the Climate Survival Training email list!
URL:https://scienceforgeorgia.org/event/cst-monthlymeetup/2027-04-25/
LOCATION:Lake Claire Community Land Trust\, 270 Arizona Ave NE\, Atlanta\, GA\, 30307\, United States
CATEGORIES:Climate Survival Training
END:VEVENT
BEGIN:VEVENT
DTSTART;TZID=America/New_York:20270523T150000
DTEND;TZID=America/New_York:20270523T170000
DTSTAMP:20260424T054852
CREATED:20260201T184338Z
LAST-MODIFIED:20260317T191709Z
UID:10000630-1811084400-1811091600@scienceforgeorgia.org
SUMMARY:CST: Monthly Meetup
DESCRIPTION:Every 4th Sunday\n3-5pm\nLake Claire Community Land Trust – 270 Arizona Ave NE\, Atlanta\, GA 30307 \nThis is going to become our monthly event at the same location to keep educating ourselves and sharing skills while also mingling\, growing our connections\, and talking about our needs and visions for a more stable future. Come hang out! \n  \nSign up to the Climate Survival Training email list!
URL:https://scienceforgeorgia.org/event/cst-monthlymeetup/2027-05-23/
LOCATION:Lake Claire Community Land Trust\, 270 Arizona Ave NE\, Atlanta\, GA\, 30307\, United States
CATEGORIES:Climate Survival Training
END:VEVENT
BEGIN:VEVENT
DTSTART;TZID=America/New_York:20270627T150000
DTEND;TZID=America/New_York:20270627T170000
DTSTAMP:20260424T054852
CREATED:20260201T184338Z
LAST-MODIFIED:20260317T191709Z
UID:10000631-1814108400-1814115600@scienceforgeorgia.org
SUMMARY:CST: Monthly Meetup
DESCRIPTION:Every 4th Sunday\n3-5pm\nLake Claire Community Land Trust – 270 Arizona Ave NE\, Atlanta\, GA 30307 \nThis is going to become our monthly event at the same location to keep educating ourselves and sharing skills while also mingling\, growing our connections\, and talking about our needs and visions for a more stable future. Come hang out! \n  \nSign up to the Climate Survival Training email list!
URL:https://scienceforgeorgia.org/event/cst-monthlymeetup/2027-06-27/
LOCATION:Lake Claire Community Land Trust\, 270 Arizona Ave NE\, Atlanta\, GA\, 30307\, United States
CATEGORIES:Climate Survival Training
END:VEVENT
BEGIN:VEVENT
DTSTART;TZID=America/New_York:20270725T150000
DTEND;TZID=America/New_York:20270725T170000
DTSTAMP:20260424T054852
CREATED:20260201T184338Z
LAST-MODIFIED:20260317T191709Z
UID:10000632-1816527600-1816534800@scienceforgeorgia.org
SUMMARY:CST: Monthly Meetup
DESCRIPTION:Every 4th Sunday\n3-5pm\nLake Claire Community Land Trust – 270 Arizona Ave NE\, Atlanta\, GA 30307 \nThis is going to become our monthly event at the same location to keep educating ourselves and sharing skills while also mingling\, growing our connections\, and talking about our needs and visions for a more stable future. Come hang out! \n  \nSign up to the Climate Survival Training email list!
URL:https://scienceforgeorgia.org/event/cst-monthlymeetup/2027-07-25/
LOCATION:Lake Claire Community Land Trust\, 270 Arizona Ave NE\, Atlanta\, GA\, 30307\, United States
CATEGORIES:Climate Survival Training
END:VEVENT
BEGIN:VEVENT
DTSTART;TZID=America/New_York:20270822T150000
DTEND;TZID=America/New_York:20270822T170000
DTSTAMP:20260424T054852
CREATED:20260201T184338Z
LAST-MODIFIED:20260317T191709Z
UID:10000633-1818946800-1818954000@scienceforgeorgia.org
SUMMARY:CST: Monthly Meetup
DESCRIPTION:Every 4th Sunday\n3-5pm\nLake Claire Community Land Trust – 270 Arizona Ave NE\, Atlanta\, GA 30307 \nThis is going to become our monthly event at the same location to keep educating ourselves and sharing skills while also mingling\, growing our connections\, and talking about our needs and visions for a more stable future. Come hang out! \n  \nSign up to the Climate Survival Training email list!
URL:https://scienceforgeorgia.org/event/cst-monthlymeetup/2027-08-22/
LOCATION:Lake Claire Community Land Trust\, 270 Arizona Ave NE\, Atlanta\, GA\, 30307\, United States
CATEGORIES:Climate Survival Training
END:VEVENT
BEGIN:VEVENT
DTSTART;TZID=America/New_York:20270926T150000
DTEND;TZID=America/New_York:20270926T170000
DTSTAMP:20260424T054852
CREATED:20260201T184338Z
LAST-MODIFIED:20260317T191709Z
UID:10000634-1821970800-1821978000@scienceforgeorgia.org
SUMMARY:CST: Monthly Meetup
DESCRIPTION:Every 4th Sunday\n3-5pm\nLake Claire Community Land Trust – 270 Arizona Ave NE\, Atlanta\, GA 30307 \nThis is going to become our monthly event at the same location to keep educating ourselves and sharing skills while also mingling\, growing our connections\, and talking about our needs and visions for a more stable future. Come hang out! \n  \nSign up to the Climate Survival Training email list!
URL:https://scienceforgeorgia.org/event/cst-monthlymeetup/2027-09-26/
LOCATION:Lake Claire Community Land Trust\, 270 Arizona Ave NE\, Atlanta\, GA\, 30307\, United States
CATEGORIES:Climate Survival Training
END:VEVENT
BEGIN:VEVENT
DTSTART;TZID=America/New_York:20271024T150000
DTEND;TZID=America/New_York:20271024T170000
DTSTAMP:20260424T054852
CREATED:20260201T184338Z
LAST-MODIFIED:20260317T191709Z
UID:10000635-1824390000-1824397200@scienceforgeorgia.org
SUMMARY:CST: Monthly Meetup
DESCRIPTION:Every 4th Sunday\n3-5pm\nLake Claire Community Land Trust – 270 Arizona Ave NE\, Atlanta\, GA 30307 \nThis is going to become our monthly event at the same location to keep educating ourselves and sharing skills while also mingling\, growing our connections\, and talking about our needs and visions for a more stable future. Come hang out! \n  \nSign up to the Climate Survival Training email list!
URL:https://scienceforgeorgia.org/event/cst-monthlymeetup/2027-10-24/
LOCATION:Lake Claire Community Land Trust\, 270 Arizona Ave NE\, Atlanta\, GA\, 30307\, United States
CATEGORIES:Climate Survival Training
END:VEVENT
BEGIN:VEVENT
DTSTART;TZID=America/New_York:20271128T150000
DTEND;TZID=America/New_York:20271128T170000
DTSTAMP:20260424T054852
CREATED:20260201T184338Z
LAST-MODIFIED:20260317T191709Z
UID:10000636-1827414000-1827421200@scienceforgeorgia.org
SUMMARY:CST: Monthly Meetup
DESCRIPTION:Every 4th Sunday\n3-5pm\nLake Claire Community Land Trust – 270 Arizona Ave NE\, Atlanta\, GA 30307 \nThis is going to become our monthly event at the same location to keep educating ourselves and sharing skills while also mingling\, growing our connections\, and talking about our needs and visions for a more stable future. Come hang out! \n  \nSign up to the Climate Survival Training email list!
URL:https://scienceforgeorgia.org/event/cst-monthlymeetup/2027-11-28/
LOCATION:Lake Claire Community Land Trust\, 270 Arizona Ave NE\, Atlanta\, GA\, 30307\, United States
CATEGORIES:Climate Survival Training
END:VEVENT
BEGIN:VEVENT
DTSTART;TZID=America/New_York:20271226T150000
DTEND;TZID=America/New_York:20271226T170000
DTSTAMP:20260424T054852
CREATED:20260201T184338Z
LAST-MODIFIED:20260317T191709Z
UID:10000637-1829833200-1829840400@scienceforgeorgia.org
SUMMARY:CST: Monthly Meetup
DESCRIPTION:Every 4th Sunday\n3-5pm\nLake Claire Community Land Trust – 270 Arizona Ave NE\, Atlanta\, GA 30307 \nThis is going to become our monthly event at the same location to keep educating ourselves and sharing skills while also mingling\, growing our connections\, and talking about our needs and visions for a more stable future. Come hang out! \n  \nSign up to the Climate Survival Training email list!
URL:https://scienceforgeorgia.org/event/cst-monthlymeetup/2027-12-26/
LOCATION:Lake Claire Community Land Trust\, 270 Arizona Ave NE\, Atlanta\, GA\, 30307\, United States
CATEGORIES:Climate Survival Training
END:VEVENT
BEGIN:VEVENT
DTSTART;TZID=America/New_York:20280123T150000
DTEND;TZID=America/New_York:20280123T170000
DTSTAMP:20260424T054852
CREATED:20260201T184338Z
LAST-MODIFIED:20260317T191709Z
UID:10000638-1832252400-1832259600@scienceforgeorgia.org
SUMMARY:CST: Monthly Meetup
DESCRIPTION:Every 4th Sunday\n3-5pm\nLake Claire Community Land Trust – 270 Arizona Ave NE\, Atlanta\, GA 30307 \nThis is going to become our monthly event at the same location to keep educating ourselves and sharing skills while also mingling\, growing our connections\, and talking about our needs and visions for a more stable future. Come hang out! \n  \nSign up to the Climate Survival Training email list!
URL:https://scienceforgeorgia.org/event/cst-monthlymeetup/2028-01-23/
LOCATION:Lake Claire Community Land Trust\, 270 Arizona Ave NE\, Atlanta\, GA\, 30307\, United States
CATEGORIES:Climate Survival Training
END:VEVENT
BEGIN:VEVENT
DTSTART;TZID=America/New_York:20280227T150000
DTEND;TZID=America/New_York:20280227T170000
DTSTAMP:20260424T054852
CREATED:20260201T184338Z
LAST-MODIFIED:20260317T191709Z
UID:10000639-1835276400-1835283600@scienceforgeorgia.org
SUMMARY:CST: Monthly Meetup
DESCRIPTION:Every 4th Sunday\n3-5pm\nLake Claire Community Land Trust – 270 Arizona Ave NE\, Atlanta\, GA 30307 \nThis is going to become our monthly event at the same location to keep educating ourselves and sharing skills while also mingling\, growing our connections\, and talking about our needs and visions for a more stable future. Come hang out! \n  \nSign up to the Climate Survival Training email list!
URL:https://scienceforgeorgia.org/event/cst-monthlymeetup/2028-02-27/
LOCATION:Lake Claire Community Land Trust\, 270 Arizona Ave NE\, Atlanta\, GA\, 30307\, United States
CATEGORIES:Climate Survival Training
END:VEVENT
BEGIN:VEVENT
DTSTART;TZID=America/New_York:20280326T150000
DTEND;TZID=America/New_York:20280326T170000
DTSTAMP:20260424T054852
CREATED:20260201T184338Z
LAST-MODIFIED:20260317T191709Z
UID:10000640-1837695600-1837702800@scienceforgeorgia.org
SUMMARY:CST: Monthly Meetup
DESCRIPTION:Every 4th Sunday\n3-5pm\nLake Claire Community Land Trust – 270 Arizona Ave NE\, Atlanta\, GA 30307 \nThis is going to become our monthly event at the same location to keep educating ourselves and sharing skills while also mingling\, growing our connections\, and talking about our needs and visions for a more stable future. Come hang out! \n  \nSign up to the Climate Survival Training email list!
URL:https://scienceforgeorgia.org/event/cst-monthlymeetup/2028-03-26/
LOCATION:Lake Claire Community Land Trust\, 270 Arizona Ave NE\, Atlanta\, GA\, 30307\, United States
CATEGORIES:Climate Survival Training
END:VEVENT
BEGIN:VEVENT
DTSTART;TZID=America/New_York:20280423T150000
DTEND;TZID=America/New_York:20280423T170000
DTSTAMP:20260424T054852
CREATED:20260201T184338Z
LAST-MODIFIED:20260317T191709Z
UID:10000641-1840114800-1840122000@scienceforgeorgia.org
SUMMARY:CST: Monthly Meetup
DESCRIPTION:Every 4th Sunday\n3-5pm\nLake Claire Community Land Trust – 270 Arizona Ave NE\, Atlanta\, GA 30307 \nThis is going to become our monthly event at the same location to keep educating ourselves and sharing skills while also mingling\, growing our connections\, and talking about our needs and visions for a more stable future. Come hang out! \n  \nSign up to the Climate Survival Training email list!
URL:https://scienceforgeorgia.org/event/cst-monthlymeetup/2028-04-23/
LOCATION:Lake Claire Community Land Trust\, 270 Arizona Ave NE\, Atlanta\, GA\, 30307\, United States
CATEGORIES:Climate Survival Training
END:VEVENT
BEGIN:VEVENT
DTSTART;TZID=America/New_York:20280528T150000
DTEND;TZID=America/New_York:20280528T170000
DTSTAMP:20260424T054852
CREATED:20260201T184338Z
LAST-MODIFIED:20260317T191709Z
UID:10000642-1843138800-1843146000@scienceforgeorgia.org
SUMMARY:CST: Monthly Meetup
DESCRIPTION:Every 4th Sunday\n3-5pm\nLake Claire Community Land Trust – 270 Arizona Ave NE\, Atlanta\, GA 30307 \nThis is going to become our monthly event at the same location to keep educating ourselves and sharing skills while also mingling\, growing our connections\, and talking about our needs and visions for a more stable future. Come hang out! \n  \nSign up to the Climate Survival Training email list!
URL:https://scienceforgeorgia.org/event/cst-monthlymeetup/2028-05-28/
LOCATION:Lake Claire Community Land Trust\, 270 Arizona Ave NE\, Atlanta\, GA\, 30307\, United States
CATEGORIES:Climate Survival Training
END:VEVENT
BEGIN:VEVENT
DTSTART;TZID=America/New_York:20280625T150000
DTEND;TZID=America/New_York:20280625T170000
DTSTAMP:20260424T054852
CREATED:20260201T184338Z
LAST-MODIFIED:20260317T191709Z
UID:10000643-1845558000-1845565200@scienceforgeorgia.org
SUMMARY:CST: Monthly Meetup
DESCRIPTION:Every 4th Sunday\n3-5pm\nLake Claire Community Land Trust – 270 Arizona Ave NE\, Atlanta\, GA 30307 \nThis is going to become our monthly event at the same location to keep educating ourselves and sharing skills while also mingling\, growing our connections\, and talking about our needs and visions for a more stable future. Come hang out! \n  \nSign up to the Climate Survival Training email list!
URL:https://scienceforgeorgia.org/event/cst-monthlymeetup/2028-06-25/
LOCATION:Lake Claire Community Land Trust\, 270 Arizona Ave NE\, Atlanta\, GA\, 30307\, United States
CATEGORIES:Climate Survival Training
END:VEVENT
BEGIN:VEVENT
DTSTART;TZID=America/New_York:20280723T150000
DTEND;TZID=America/New_York:20280723T170000
DTSTAMP:20260424T054852
CREATED:20260201T184338Z
LAST-MODIFIED:20260317T191709Z
UID:10000644-1847977200-1847984400@scienceforgeorgia.org
SUMMARY:CST: Monthly Meetup
DESCRIPTION:Every 4th Sunday\n3-5pm\nLake Claire Community Land Trust – 270 Arizona Ave NE\, Atlanta\, GA 30307 \nThis is going to become our monthly event at the same location to keep educating ourselves and sharing skills while also mingling\, growing our connections\, and talking about our needs and visions for a more stable future. Come hang out! \n  \nSign up to the Climate Survival Training email list!
URL:https://scienceforgeorgia.org/event/cst-monthlymeetup/2028-07-23/
LOCATION:Lake Claire Community Land Trust\, 270 Arizona Ave NE\, Atlanta\, GA\, 30307\, United States
CATEGORIES:Climate Survival Training
END:VEVENT
BEGIN:VEVENT
DTSTART;TZID=America/New_York:20280827T150000
DTEND;TZID=America/New_York:20280827T170000
DTSTAMP:20260424T054852
CREATED:20260201T184338Z
LAST-MODIFIED:20260317T191709Z
UID:10000645-1851001200-1851008400@scienceforgeorgia.org
SUMMARY:CST: Monthly Meetup
DESCRIPTION:Every 4th Sunday\n3-5pm\nLake Claire Community Land Trust – 270 Arizona Ave NE\, Atlanta\, GA 30307 \nThis is going to become our monthly event at the same location to keep educating ourselves and sharing skills while also mingling\, growing our connections\, and talking about our needs and visions for a more stable future. Come hang out! \n  \nSign up to the Climate Survival Training email list!
URL:https://scienceforgeorgia.org/event/cst-monthlymeetup/2028-08-27/
LOCATION:Lake Claire Community Land Trust\, 270 Arizona Ave NE\, Atlanta\, GA\, 30307\, United States
CATEGORIES:Climate Survival Training
END:VEVENT
BEGIN:VEVENT
DTSTART;TZID=America/New_York:20280924T150000
DTEND;TZID=America/New_York:20280924T170000
DTSTAMP:20260424T054852
CREATED:20260201T184338Z
LAST-MODIFIED:20260317T191709Z
UID:10000646-1853420400-1853427600@scienceforgeorgia.org
SUMMARY:CST: Monthly Meetup
DESCRIPTION:Every 4th Sunday\n3-5pm\nLake Claire Community Land Trust – 270 Arizona Ave NE\, Atlanta\, GA 30307 \nThis is going to become our monthly event at the same location to keep educating ourselves and sharing skills while also mingling\, growing our connections\, and talking about our needs and visions for a more stable future. Come hang out! \n  \nSign up to the Climate Survival Training email list!
URL:https://scienceforgeorgia.org/event/cst-monthlymeetup/2028-09-24/
LOCATION:Lake Claire Community Land Trust\, 270 Arizona Ave NE\, Atlanta\, GA\, 30307\, United States
CATEGORIES:Climate Survival Training
END:VEVENT
BEGIN:VEVENT
DTSTART;TZID=America/New_York:20281022T150000
DTEND;TZID=America/New_York:20281022T170000
DTSTAMP:20260424T054852
CREATED:20260201T184338Z
LAST-MODIFIED:20260317T191709Z
UID:10000647-1855839600-1855846800@scienceforgeorgia.org
SUMMARY:CST: Monthly Meetup
DESCRIPTION:Every 4th Sunday\n3-5pm\nLake Claire Community Land Trust – 270 Arizona Ave NE\, Atlanta\, GA 30307 \nThis is going to become our monthly event at the same location to keep educating ourselves and sharing skills while also mingling\, growing our connections\, and talking about our needs and visions for a more stable future. Come hang out! \n  \nSign up to the Climate Survival Training email list!
URL:https://scienceforgeorgia.org/event/cst-monthlymeetup/2028-10-22/
LOCATION:Lake Claire Community Land Trust\, 270 Arizona Ave NE\, Atlanta\, GA\, 30307\, United States
CATEGORIES:Climate Survival Training
END:VEVENT
BEGIN:VEVENT
DTSTART;TZID=America/New_York:20281126T150000
DTEND;TZID=America/New_York:20281126T170000
DTSTAMP:20260424T054852
CREATED:20260201T184338Z
LAST-MODIFIED:20260317T191709Z
UID:10000648-1858863600-1858870800@scienceforgeorgia.org
SUMMARY:CST: Monthly Meetup
DESCRIPTION:Every 4th Sunday\n3-5pm\nLake Claire Community Land Trust – 270 Arizona Ave NE\, Atlanta\, GA 30307 \nThis is going to become our monthly event at the same location to keep educating ourselves and sharing skills while also mingling\, growing our connections\, and talking about our needs and visions for a more stable future. Come hang out! \n  \nSign up to the Climate Survival Training email list!
URL:https://scienceforgeorgia.org/event/cst-monthlymeetup/2028-11-26/
LOCATION:Lake Claire Community Land Trust\, 270 Arizona Ave NE\, Atlanta\, GA\, 30307\, United States
CATEGORIES:Climate Survival Training
END:VEVENT
BEGIN:VEVENT
DTSTART;TZID=America/New_York:20281224T150000
DTEND;TZID=America/New_York:20281224T170000
DTSTAMP:20260424T054852
CREATED:20260201T184338Z
LAST-MODIFIED:20260317T191709Z
UID:10000649-1861282800-1861290000@scienceforgeorgia.org
SUMMARY:CST: Monthly Meetup
DESCRIPTION:Every 4th Sunday\n3-5pm\nLake Claire Community Land Trust – 270 Arizona Ave NE\, Atlanta\, GA 30307 \nThis is going to become our monthly event at the same location to keep educating ourselves and sharing skills while also mingling\, growing our connections\, and talking about our needs and visions for a more stable future. Come hang out! \n  \nSign up to the Climate Survival Training email list!
URL:https://scienceforgeorgia.org/event/cst-monthlymeetup/2028-12-24/
LOCATION:Lake Claire Community Land Trust\, 270 Arizona Ave NE\, Atlanta\, GA\, 30307\, United States
CATEGORIES:Climate Survival Training
END:VEVENT
BEGIN:VEVENT
DTSTART;TZID=America/New_York:20290128T150000
DTEND;TZID=America/New_York:20290128T170000
DTSTAMP:20260424T054852
CREATED:20260201T184338Z
LAST-MODIFIED:20260317T191709Z
UID:10000650-1864306800-1864314000@scienceforgeorgia.org
SUMMARY:CST: Monthly Meetup
DESCRIPTION:Every 4th Sunday\n3-5pm\nLake Claire Community Land Trust – 270 Arizona Ave NE\, Atlanta\, GA 30307 \nThis is going to become our monthly event at the same location to keep educating ourselves and sharing skills while also mingling\, growing our connections\, and talking about our needs and visions for a more stable future. Come hang out! \n  \nSign up to the Climate Survival Training email list!
URL:https://scienceforgeorgia.org/event/cst-monthlymeetup/2029-01-28/
LOCATION:Lake Claire Community Land Trust\, 270 Arizona Ave NE\, Atlanta\, GA\, 30307\, United States
CATEGORIES:Climate Survival Training
END:VEVENT
BEGIN:VEVENT
DTSTART;TZID=America/New_York:20290225T150000
DTEND;TZID=America/New_York:20290225T170000
DTSTAMP:20260424T054852
CREATED:20260201T184338Z
LAST-MODIFIED:20260317T191709Z
UID:10000651-1866726000-1866733200@scienceforgeorgia.org
SUMMARY:CST: Monthly Meetup
DESCRIPTION:Every 4th Sunday\n3-5pm\nLake Claire Community Land Trust – 270 Arizona Ave NE\, Atlanta\, GA 30307 \nThis is going to become our monthly event at the same location to keep educating ourselves and sharing skills while also mingling\, growing our connections\, and talking about our needs and visions for a more stable future. Come hang out! \n  \nSign up to the Climate Survival Training email list!
URL:https://scienceforgeorgia.org/event/cst-monthlymeetup/2029-02-25/
LOCATION:Lake Claire Community Land Trust\, 270 Arizona Ave NE\, Atlanta\, GA\, 30307\, United States
CATEGORIES:Climate Survival Training
END:VEVENT
BEGIN:VEVENT
DTSTART;TZID=America/New_York:20290325T150000
DTEND;TZID=America/New_York:20290325T170000
DTSTAMP:20260424T054852
CREATED:20260201T184338Z
LAST-MODIFIED:20260317T191709Z
UID:10000652-1869145200-1869152400@scienceforgeorgia.org
SUMMARY:CST: Monthly Meetup
DESCRIPTION:Every 4th Sunday\n3-5pm\nLake Claire Community Land Trust – 270 Arizona Ave NE\, Atlanta\, GA 30307 \nThis is going to become our monthly event at the same location to keep educating ourselves and sharing skills while also mingling\, growing our connections\, and talking about our needs and visions for a more stable future. Come hang out! \n  \nSign up to the Climate Survival Training email list!
URL:https://scienceforgeorgia.org/event/cst-monthlymeetup/2029-03-25/
LOCATION:Lake Claire Community Land Trust\, 270 Arizona Ave NE\, Atlanta\, GA\, 30307\, United States
CATEGORIES:Climate Survival Training
END:VEVENT
BEGIN:VEVENT
DTSTART;TZID=America/New_York:20290422T150000
DTEND;TZID=America/New_York:20290422T170000
DTSTAMP:20260424T054852
CREATED:20260201T184338Z
LAST-MODIFIED:20260317T191709Z
UID:10000653-1871564400-1871571600@scienceforgeorgia.org
SUMMARY:CST: Monthly Meetup
DESCRIPTION:Every 4th Sunday\n3-5pm\nLake Claire Community Land Trust – 270 Arizona Ave NE\, Atlanta\, GA 30307 \nThis is going to become our monthly event at the same location to keep educating ourselves and sharing skills while also mingling\, growing our connections\, and talking about our needs and visions for a more stable future. Come hang out! \n  \nSign up to the Climate Survival Training email list!
URL:https://scienceforgeorgia.org/event/cst-monthlymeetup/2029-04-22/
LOCATION:Lake Claire Community Land Trust\, 270 Arizona Ave NE\, Atlanta\, GA\, 30307\, United States
CATEGORIES:Climate Survival Training
END:VEVENT
BEGIN:VEVENT
DTSTART;TZID=America/New_York:20290527T150000
DTEND;TZID=America/New_York:20290527T170000
DTSTAMP:20260424T054852
CREATED:20260201T184338Z
LAST-MODIFIED:20260317T191709Z
UID:10000654-1874588400-1874595600@scienceforgeorgia.org
SUMMARY:CST: Monthly Meetup
DESCRIPTION:Every 4th Sunday\n3-5pm\nLake Claire Community Land Trust – 270 Arizona Ave NE\, Atlanta\, GA 30307 \nThis is going to become our monthly event at the same location to keep educating ourselves and sharing skills while also mingling\, growing our connections\, and talking about our needs and visions for a more stable future. Come hang out! \n  \nSign up to the Climate Survival Training email list!
URL:https://scienceforgeorgia.org/event/cst-monthlymeetup/2029-05-27/
LOCATION:Lake Claire Community Land Trust\, 270 Arizona Ave NE\, Atlanta\, GA\, 30307\, United States
CATEGORIES:Climate Survival Training
END:VEVENT
BEGIN:VEVENT
DTSTART;TZID=America/New_York:20290624T150000
DTEND;TZID=America/New_York:20290624T170000
DTSTAMP:20260424T054852
CREATED:20260201T184338Z
LAST-MODIFIED:20260317T191709Z
UID:10000655-1877007600-1877014800@scienceforgeorgia.org
SUMMARY:CST: Monthly Meetup
DESCRIPTION:Every 4th Sunday\n3-5pm\nLake Claire Community Land Trust – 270 Arizona Ave NE\, Atlanta\, GA 30307 \nThis is going to become our monthly event at the same location to keep educating ourselves and sharing skills while also mingling\, growing our connections\, and talking about our needs and visions for a more stable future. Come hang out! \n  \nSign up to the Climate Survival Training email list!
URL:https://scienceforgeorgia.org/event/cst-monthlymeetup/2029-06-24/
LOCATION:Lake Claire Community Land Trust\, 270 Arizona Ave NE\, Atlanta\, GA\, 30307\, United States
CATEGORIES:Climate Survival Training
END:VEVENT
BEGIN:VEVENT
DTSTART;TZID=America/New_York:20290722T150000
DTEND;TZID=America/New_York:20290722T170000
DTSTAMP:20260424T054852
CREATED:20260201T184338Z
LAST-MODIFIED:20260317T191709Z
UID:10000656-1879426800-1879434000@scienceforgeorgia.org
SUMMARY:CST: Monthly Meetup
DESCRIPTION:Every 4th Sunday\n3-5pm\nLake Claire Community Land Trust – 270 Arizona Ave NE\, Atlanta\, GA 30307 \nThis is going to become our monthly event at the same location to keep educating ourselves and sharing skills while also mingling\, growing our connections\, and talking about our needs and visions for a more stable future. Come hang out! \n  \nSign up to the Climate Survival Training email list!
URL:https://scienceforgeorgia.org/event/cst-monthlymeetup/2029-07-22/
LOCATION:Lake Claire Community Land Trust\, 270 Arizona Ave NE\, Atlanta\, GA\, 30307\, United States
CATEGORIES:Climate Survival Training
END:VEVENT
BEGIN:VEVENT
DTSTART;TZID=America/New_York:20290826T150000
DTEND;TZID=America/New_York:20290826T170000
DTSTAMP:20260424T054852
CREATED:20260201T184338Z
LAST-MODIFIED:20260317T191709Z
UID:10000657-1882450800-1882458000@scienceforgeorgia.org
SUMMARY:CST: Monthly Meetup
DESCRIPTION:Every 4th Sunday\n3-5pm\nLake Claire Community Land Trust – 270 Arizona Ave NE\, Atlanta\, GA 30307 \nThis is going to become our monthly event at the same location to keep educating ourselves and sharing skills while also mingling\, growing our connections\, and talking about our needs and visions for a more stable future. Come hang out! \n  \nSign up to the Climate Survival Training email list!
URL:https://scienceforgeorgia.org/event/cst-monthlymeetup/2029-08-26/
LOCATION:Lake Claire Community Land Trust\, 270 Arizona Ave NE\, Atlanta\, GA\, 30307\, United States
CATEGORIES:Climate Survival Training
END:VEVENT
BEGIN:VEVENT
DTSTART;TZID=America/New_York:20290923T150000
DTEND;TZID=America/New_York:20290923T170000
DTSTAMP:20260424T054852
CREATED:20260201T184338Z
LAST-MODIFIED:20260317T191709Z
UID:10000658-1884870000-1884877200@scienceforgeorgia.org
SUMMARY:CST: Monthly Meetup
DESCRIPTION:Every 4th Sunday\n3-5pm\nLake Claire Community Land Trust – 270 Arizona Ave NE\, Atlanta\, GA 30307 \nThis is going to become our monthly event at the same location to keep educating ourselves and sharing skills while also mingling\, growing our connections\, and talking about our needs and visions for a more stable future. Come hang out! \n  \nSign up to the Climate Survival Training email list!
URL:https://scienceforgeorgia.org/event/cst-monthlymeetup/2029-09-23/
LOCATION:Lake Claire Community Land Trust\, 270 Arizona Ave NE\, Atlanta\, GA\, 30307\, United States
CATEGORIES:Climate Survival Training
END:VEVENT
END:VCALENDAR