BEGIN:VCALENDAR
VERSION:2.0
PRODID:-//Science for Georgia - ECPv6.15.20//NONSGML v1.0//EN
CALSCALE:GREGORIAN
METHOD:PUBLISH
X-WR-CALNAME:Science for Georgia
X-ORIGINAL-URL:https://scienceforgeorgia.org
X-WR-CALDESC:Events for Science for Georgia
REFRESH-INTERVAL;VALUE=DURATION:PT1H
X-Robots-Tag:noindex
X-PUBLISHED-TTL:PT1H
BEGIN:VTIMEZONE
TZID:America/New_York
BEGIN:DAYLIGHT
TZOFFSETFROM:-0500
TZOFFSETTO:-0400
TZNAME:EDT
DTSTART:20250309T070000
END:DAYLIGHT
BEGIN:STANDARD
TZOFFSETFROM:-0400
TZOFFSETTO:-0500
TZNAME:EST
DTSTART:20251102T060000
END:STANDARD
BEGIN:DAYLIGHT
TZOFFSETFROM:-0500
TZOFFSETTO:-0400
TZNAME:EDT
DTSTART:20260308T070000
END:DAYLIGHT
BEGIN:STANDARD
TZOFFSETFROM:-0400
TZOFFSETTO:-0500
TZNAME:EST
DTSTART:20261101T060000
END:STANDARD
BEGIN:DAYLIGHT
TZOFFSETFROM:-0500
TZOFFSETTO:-0400
TZNAME:EDT
DTSTART:20270314T070000
END:DAYLIGHT
BEGIN:STANDARD
TZOFFSETFROM:-0400
TZOFFSETTO:-0500
TZNAME:EST
DTSTART:20271107T060000
END:STANDARD
END:VTIMEZONE
BEGIN:VEVENT
DTSTART;TZID=America/New_York:20260521T190000
DTEND;TZID=America/New_York:20260521T190000
DTSTAMP:20260420T192303
CREATED:20260419T162143Z
LAST-MODIFIED:20260419T162205Z
UID:10000866-1779390000-1779390000@scienceforgeorgia.org
SUMMARY:EPD Public Hearing on Data Center
DESCRIPTION:The EPD is holding a public hearing on a wastewater discharge permit associated with a data center at 1100 Site Parkway\, Hampton\, Georgia 30228. This is in the Flint River Basin. \nThis is a hearing where you can submit public comments. You can also email them before the hearing (see information below). Comments are limited to under three (3) minutes in length. \nComments should: \n\nBe focused only on wastewater discharge associated with this specific facility\nInclude questions for the EPD to respond to (i.e. how will you measure the impact on the Flint? How will you test the discharge for chemicals? Have you considered what chemicals may be in the discharge? How will you keep the public informed?)\nDo not focus on data centers in general\, do not focus on other impacts of this specific data center outside wastewater discharge\nDo not be mean or threatening\n\nBelow is the information from the EPD – \nEPD Notice Type: NPDES Permit Issuance\nPermit No.: GA0050350\nFacility Name: Equinix\, Inc. – AT10x\nMailing Address: 1 Lagoon Drive\, Redwood City\, California 94065\nFacility Address: 1100 Site Parkway\, Hampton\, Georgia 30228\nRiver Basin: Flint\nReceiving Water: Clear Creek\nDescription: This facility is a data center and will discharge a maximum of 0.35 MGD of non-contact cooling water.\nGEOS Submittal ID: 912787\nHyperlink: GEOS – Public\nEPD will hold a public hearing at 7:00 p.m. on May 21\, 2026. The hearing will be held at Hampton High School located at 795 Hampton Locust Grove Road\, Hampton\, Georgia 30228. The purpose of the public hearing is to receive comments on the draft NPDES permit for Equinix\, Inc. – AT10x.\nThe public hearing is a formal process to receive comments on the draft permit. Participants who wish to comment for the record are requested to sign in upon arrival. Hearing participants will not be subject to questions from the audience\, but may be questioned by the Hearing Officer for clarification of technical points or to develop a better understanding of statements. Questions asked by participants making statements will be answered by EPD in writing at a later date. Lengthy statements or statements of a considerable technical or economic nature should be submitted in writing for the official record. During the hearing\, oral statements shall be limited to three (3) minutes to allow everyone an opportunity to be heard. Comments should be confined to water quality issues.\nWritten comments are welcomed. To ensure their consideration\, written comments should be received by close of business on May 27\, 2026. Please address written comments to the address listed below\, or via e-mail at EPD.comments@dnr.ga.gov. If you choose to e-mail your comments\, please be sure to include the words “NPDES Permit Issuance – Equinix\, Inc. – AT10x” in the subject line to ensure that your comments will be forwarded to the correct staff. A fact sheet or copy of the draft permit is available by writing the Environmental Protection Division. The permit application\, draft permit\, comments received\, and other information are available for review at 2 MLK Jr. Drive\, Suite 1470A\, Atlanta\, GA 30334. Please call or email to schedule a review. Please bring this notice to the attention of interested persons.\n 
URL:https://scienceforgeorgia.org/event/epd-public-hearing-on-data-center/
LOCATION:Hampton High School\, 795 Hampton Locust Grove Road\, Hampton\, 30228\, United States
END:VEVENT
END:VCALENDAR