BEGIN:VCALENDAR
VERSION:2.0
PRODID:-//Science for Georgia - ECPv6.15.20//NONSGML v1.0//EN
CALSCALE:GREGORIAN
METHOD:PUBLISH
X-ORIGINAL-URL:https://scienceforgeorgia.org
X-WR-CALDESC:Events for Science for Georgia
REFRESH-INTERVAL;VALUE=DURATION:PT1H
X-Robots-Tag:noindex
X-PUBLISHED-TTL:PT1H
BEGIN:VTIMEZONE
TZID:America/New_York
BEGIN:DAYLIGHT
TZOFFSETFROM:-0500
TZOFFSETTO:-0400
TZNAME:EDT
DTSTART:20240310T070000
END:DAYLIGHT
BEGIN:STANDARD
TZOFFSETFROM:-0400
TZOFFSETTO:-0500
TZNAME:EST
DTSTART:20241103T060000
END:STANDARD
BEGIN:DAYLIGHT
TZOFFSETFROM:-0500
TZOFFSETTO:-0400
TZNAME:EDT
DTSTART:20250309T070000
END:DAYLIGHT
BEGIN:STANDARD
TZOFFSETFROM:-0400
TZOFFSETTO:-0500
TZNAME:EST
DTSTART:20251102T060000
END:STANDARD
BEGIN:DAYLIGHT
TZOFFSETFROM:-0500
TZOFFSETTO:-0400
TZNAME:EDT
DTSTART:20260308T070000
END:DAYLIGHT
BEGIN:STANDARD
TZOFFSETFROM:-0400
TZOFFSETTO:-0500
TZNAME:EST
DTSTART:20261101T060000
END:STANDARD
BEGIN:DAYLIGHT
TZOFFSETFROM:-0500
TZOFFSETTO:-0400
TZNAME:EDT
DTSTART:20270314T070000
END:DAYLIGHT
BEGIN:STANDARD
TZOFFSETFROM:-0400
TZOFFSETTO:-0500
TZNAME:EST
DTSTART:20271107T060000
END:STANDARD
END:VTIMEZONE
BEGIN:VEVENT
DTSTART;TZID=America/New_York:20260129T080000
DTEND;TZID=America/New_York:20260129T140000
DTSTAMP:20260422T053006
CREATED:20251217T220728Z
LAST-MODIFIED:20260115T210529Z
UID:10000609-1769673600-1769695200@scienceforgeorgia.org
SUMMARY:Environmental Justice Day at the Capitol
DESCRIPTION:Science for Georgia is proud to be a part of the Georgia Coalition for Environmental Policy and Protection (GCEPP). \nYour legislators need to hear from you! Your voice is critical in advancing the needs of our community. Remember\, your legislator works for you.\n\nPlease join GCEPP for Environmental Justice Day on Jan 29th from 8am to 2pm. This day will include training on issues and opportunities to meet with your legislator. We will begin at Central Presbyterian Church (201 Washington St SW\, Atlanta\, GA 30303) with coffee and training\, and then walk to the State Capitol together.\n\n\nEJ DAY – Thursday Jan 29\, 2026\nCentral Presbyterian Church\, 201 Washington St SW\, Atlanta\, GA 30303\n(Across the street from GA State Capitol)\n8:00 AM – 2 PM\n8:00 – Check-In – continental breakfast (pastries\, coffee\, juices)\n8:35 – Welcome; training on engaging lawmakers\, review of legislation\n9:10 – Group picture in front of the Capitol\n9:20 – 11:50 Meet with your legislator\, planned meetings (or meeting at the ropes)\n12:00 – 2:00 Box lunch at church – report back on meetings with legislators\, share experience\, next steps\n\n\nWe strive to ensure that everyone can participate fully. On the form below we have check boxes for you to indicate your needs.\nPlease tell us if you need transportation assistance by January 8\, 2026. \n\nSign Up Here\n\nParking info\n\n \nDirections \nSouthbound on I-75/I-85\nExit 75/85 on exit 248A\, MLK Jr Dr (right before the I-20 exit). \nGo straight on MLK Jr Dr\,\nSteeve Polk Plaza Parking (65 M.L.K. Jr Dr SW\, Atlanta\, GA 30303) is on the right after you cross over Courtland St\nNorthbound on I-75/I-85 \nExit 246 Central Ave and continue stright for 0.5 miles\nRight onto Memorial Dr SW\nLeft onto Capitol Ave SW\nPass the Capitol on your left and then turn Left on MLK Jr Dr\,\nSteeve Polk Plaza Parking (65 M.L.K. Jr Dr SW\, Atlanta\, GA 30303) is on the right after you cross over Courtland St \nFrom Steve Polk Parking Plaza (You will have to pay for parking)\nwalk out of the lot past the payment kiosk\nTurn left onto MLK Jr Dr\nAt the 1st light – turn right onto Courtland St by crossing over MLK Jr Dr\nThe church will be on your left as you walk along Courtland. There will probably be a lot of school buses along the street. About halfway down the block\, there will be a gate into the Church courtyard. Entrance to the assembly hall will be on your right.
URL:https://scienceforgeorgia.org/event/gcepp-day-at-the-capitol-26/
LOCATION:Central Presbyterian Church\, 201 Washington St SW\, Atlanta\, GA\, 30303\, United States
CATEGORIES:Community Event,Partner Event
ATTACH;FMTTYPE=image/png:https://scienceforgeorgia.org/wp-content/uploads/2025/12/Flyer-2026Environmental-Justice-Day.png
END:VEVENT
BEGIN:VEVENT
DTSTART;TZID=America/New_York:20250131T180000
DTEND;TZID=America/New_York:20250131T200000
DTSTAMP:20260422T053006
CREATED:20250109T191055Z
LAST-MODIFIED:20250109T191055Z
UID:10000287-1738346400-1738353600@scienceforgeorgia.org
SUMMARY:EJ Day Recap and Mixer
DESCRIPTION:We went to capitol and advocated – now lets unwind\, recap\, and come up with next steps. \nPlease join us for an EJ Day Recap and Mixer on Fri\, Jan 31st\, 6pm to 8pm\, at Manuel’s Tavern (602 North Highland Avenue Northeast\, Atlanta\, GA 30307).\nThis is a casual mixer over food and drink to recap what happened and brainstorm next steps.\n\nFill out my LGL Form!
URL:https://scienceforgeorgia.org/event/ej-day-recap-and-mixer/
LOCATION:Manuel’s Tavern\, 602 North Highland Avenue Northeast\, Atlanta\, Georgia\, 30307\, United States
END:VEVENT
BEGIN:VEVENT
DTSTART;TZID=America/New_York:20250130T080000
DTEND;TZID=America/New_York:20250130T130000
DTSTAMP:20260422T053006
CREATED:20250109T190414Z
LAST-MODIFIED:20250117T181657Z
UID:10000286-1738224000-1738242000@scienceforgeorgia.org
SUMMARY:GCEPP Day at the Capitol
DESCRIPTION:Science for Georgia is proud to be a part of the Georgia Coalition for Environmental Policy and Protection (GCEPP). \nYour legislators need to hear from you! Your voice is critical in advancing the needs of our community. Remember\, your legislator works for you.\n\nPlease join GCEPP for EJ Day on Jan 30th from 8am to 1pm. This day will include training on issues and opportunities to meet with your legislator. We will begin at Central Presbyterian Church (201 Washington St SW\, Atlanta\, GA 30303) with coffee and training\, and then walk to the State Capitol together.\n\nParking Map Here.\n\nWe will also have an EJ Day Recap and Mixer on Fri\, Jan 31st\, 6pm to 8pm\, at Manuel’s Tavern (602 North Highland Avenue Northeast\, Atlanta\, GA 30307). This is a casual mixer over food and drink to recap what happened and brainstorm next steps.
URL:https://scienceforgeorgia.org/event/gcepp-day-at-the-capitol/
LOCATION:Central Presbyterian Church\, 201 Washington St SW\, Atlanta\, GA\, 30303\, United States
CATEGORIES:Community Event,Partner Event
ATTACH;FMTTYPE=image/jpeg:https://scienceforgeorgia.org/wp-content/uploads/2025/01/EJ-Day.jpg
END:VEVENT
END:VCALENDAR