BEGIN:VCALENDAR
VERSION:2.0
PRODID:-//Science for Georgia - ECPv6.15.20//NONSGML v1.0//EN
CALSCALE:GREGORIAN
METHOD:PUBLISH
X-WR-CALNAME:Science for Georgia
X-ORIGINAL-URL:https://scienceforgeorgia.org
X-WR-CALDESC:Events for Science for Georgia
REFRESH-INTERVAL;VALUE=DURATION:PT1H
X-Robots-Tag:noindex
X-PUBLISHED-TTL:PT1H
BEGIN:VTIMEZONE
TZID:America/New_York
BEGIN:DAYLIGHT
TZOFFSETFROM:-0500
TZOFFSETTO:-0400
TZNAME:EDT
DTSTART:20240310T070000
END:DAYLIGHT
BEGIN:STANDARD
TZOFFSETFROM:-0400
TZOFFSETTO:-0500
TZNAME:EST
DTSTART:20241103T060000
END:STANDARD
BEGIN:DAYLIGHT
TZOFFSETFROM:-0500
TZOFFSETTO:-0400
TZNAME:EDT
DTSTART:20250309T070000
END:DAYLIGHT
BEGIN:STANDARD
TZOFFSETFROM:-0400
TZOFFSETTO:-0500
TZNAME:EST
DTSTART:20251102T060000
END:STANDARD
BEGIN:DAYLIGHT
TZOFFSETFROM:-0500
TZOFFSETTO:-0400
TZNAME:EDT
DTSTART:20260308T070000
END:DAYLIGHT
BEGIN:STANDARD
TZOFFSETFROM:-0400
TZOFFSETTO:-0500
TZNAME:EST
DTSTART:20261101T060000
END:STANDARD
END:VTIMEZONE
BEGIN:VEVENT
DTSTART;TZID=America/New_York:20251102T140000
DTEND;TZID=America/New_York:20251102T160000
DTSTAMP:20260421T055905
CREATED:20251029T213608Z
LAST-MODIFIED:20251029T213608Z
UID:10000524-1762092000-1762099200@scienceforgeorgia.org
SUMMARY:CST: Work2Learn: Growing Edible Mushrooms at Home
DESCRIPTION:Work2Learn: Growing Edible Mushrooms at Home: Let’s Inoculate Some Logs!\nDate: Sunday\, Nov 2nd \nTime: 2-4pm \nLocation: Eco Sun Farms\, 1490 High Haven Ct. NE\, Atlanta\, GA 30329 \n  \nJoin us on Sunday November 2nd from 2pm to 4pm\, we will have a SPOOKY mushroom log inoculation session to help out Eco Sun Farms start their mushroom growing up. 
URL:https://scienceforgeorgia.org/event/cst-work2learn-growing-edible-mushrooms-at-home/
LOCATION:Eco Sun Farms\, 1490 High Haven Ct. NE\, Atlanta\, GA\, 30329\, United States
ATTACH;FMTTYPE=image/png:https://scienceforgeorgia.org/wp-content/uploads/2025/10/CST-ecosun-nov2.png
END:VEVENT
BEGIN:VEVENT
DTSTART;TZID=America/New_York:20251109T140000
DTEND;TZID=America/New_York:20251109T160000
DTSTAMP:20260421T055905
CREATED:20251029T214023Z
LAST-MODIFIED:20251104T011850Z
UID:10000525-1762696800-1762704000@scienceforgeorgia.org
SUMMARY:CST: Work2Learn: Build a Wall
DESCRIPTION:Work2Learn: Build a Wall\nDate: Sunday\, Nov 9th \nTime: 2-4pm \nLocation: Eco Sun Farms\, 1490 High Haven Ct. NE\, Atlanta\, GA 30329 \n  \nJoin us on Sunday Nov 9th from 2pm to 4pm we will be back at Eco Sun Farms learning to build a wall! You see the mutual benefit here? Get a physical sense of what it takes to build structural functional stuff! and build an actual useful wall in a cool shed! \nClimate Survival Training
URL:https://scienceforgeorgia.org/event/cst-work2learn-build-a-wall/
LOCATION:Eco Sun Farms\, 1490 High Haven Ct. NE\, Atlanta\, GA\, 30329\, United States
CATEGORIES:Climate Survival Training
ATTACH;FMTTYPE=image/png:https://scienceforgeorgia.org/wp-content/uploads/2025/10/CST-ecosun-nov9.png
END:VEVENT
BEGIN:VEVENT
DTSTART;TZID=America/New_York:20251113T180000
DTEND;TZID=America/New_York:20251113T190000
DTSTAMP:20260421T055905
CREATED:20251006T161101Z
LAST-MODIFIED:20251105T165543Z
UID:10000528-1763056800-1763060400@scienceforgeorgia.org
SUMMARY:Sci4Ga Monthly Community Meeting
DESCRIPTION:Sci4Ga Monthly Community Meeting\n\n\nLearn about upcoming events\, outreach skills\, and opportunities in your community. \nMeeting agenda and Zoom link will go out the day before the meeting. Please sign up at the form below to be notified. \nThese meetings (open to everyone) are your chance to have a say in what Science for Georgia is focusing on and to find ways to help out. \n\nPlease sign up at the link below to be emailed the meeting Zoom link. \nSci4Ga Membership
URL:https://scienceforgeorgia.org/event/sci4ga-monthly-community-meeting-11-6/
LOCATION:Online
CATEGORIES:Community Event
ATTACH;FMTTYPE=image/png:https://scienceforgeorgia.org/wp-content/uploads/2025/06/Generic-Catalyzer-Monthly-Community-Meeting.png
END:VEVENT
BEGIN:VEVENT
DTSTART;TZID=America/New_York:20251115T120000
DTEND;TZID=America/New_York:20251115T170000
DTSTAMP:20260421T055905
CREATED:20251106T191819Z
LAST-MODIFIED:20251106T191819Z
UID:10000588-1763208000-1763226000@scienceforgeorgia.org
SUMMARY:Unearthing Farm Soil Restoration- A Plant Salvaging Event
DESCRIPTION:Sat\, Nov 15th – Sun\, Nov 16th\, 2025\n12 PM – 5 PM\nSHIFTS\nShift 1\nSat\, Nov 15th\, 2025\n12 PM – 5 PM \nShift 2\nSun\, Nov 16th\, 2025\n12 PM – 5 PM \nLocation: Unearthing Farm & Market: 1534 Memorial Drive Southeast\, Atlanta\, GA \nPlease Register Here and let us know you are coming \n  \n\nAbout the event\n\nWith the recent soil testing at Unearthing Farm and market\, which has revealed elevated lead levels prompting them to pause many activities and programs at the farm. \nThis setback is significant\, but their mission to create healthy\, inclusive food access for Atlanta remains unwavering. To continue their work in community building and food distribution\, they had to explore potential remediation strategies. \nOne of those strategies is that Unearthing Farm is working towards total soil restoration\, requiring an excavation of the land. They are in the process of planning a two day event to salvage plants and trees that are essential to the farm’s mission. \nTogether they aim to cultivate a vibrate community green space through a hyper local farm and market. \n\n\n\nWhat will volunteers do?\n\nVolunteers will support the farm by supporting the salvaging of trees and plants before the excavation of the land begins. \nUnearthing Farm needs support with pruning\, trimming and repotting plants into their temporary home. A workshop will happen before the repotting begins to show volunteers the most supportive way to transition the plants and trees. \n\n\n\nWhat will volunteers need to bring or wear?\n\nPlease wear long sleeve\, pants and close toed shoes. PPE (masks\, booties and gloves) will be provided to everyone during this event and we asks that all volunteers utilizes what’s provided.
URL:https://scienceforgeorgia.org/event/unearthing-farm-soil-restoration-a-plant-salvaging-event/2025-11-15/
LOCATION:Unearthing Farms\, 1534 Memorial Dr SE\, Atlanta\, Georgia\, 30317
CATEGORIES:Community Event
ATTACH;FMTTYPE=image/jpeg:https://scienceforgeorgia.org/wp-content/uploads/2025/11/WhatsApp-Image-2025-11-03-at-5.26.07-PM.jpeg
END:VEVENT
BEGIN:VEVENT
DTSTART;TZID=America/New_York:20251116T120000
DTEND;TZID=America/New_York:20251116T170000
DTSTAMP:20260421T055905
CREATED:20251106T191819Z
LAST-MODIFIED:20251106T191819Z
UID:10000589-1763294400-1763312400@scienceforgeorgia.org
SUMMARY:Unearthing Farm Soil Restoration- A Plant Salvaging Event
DESCRIPTION:Sat\, Nov 15th – Sun\, Nov 16th\, 2025\n12 PM – 5 PM\nSHIFTS\nShift 1\nSat\, Nov 15th\, 2025\n12 PM – 5 PM \nShift 2\nSun\, Nov 16th\, 2025\n12 PM – 5 PM \nLocation: Unearthing Farm & Market: 1534 Memorial Drive Southeast\, Atlanta\, GA \nPlease Register Here and let us know you are coming \n  \n\nAbout the event\n\nWith the recent soil testing at Unearthing Farm and market\, which has revealed elevated lead levels prompting them to pause many activities and programs at the farm. \nThis setback is significant\, but their mission to create healthy\, inclusive food access for Atlanta remains unwavering. To continue their work in community building and food distribution\, they had to explore potential remediation strategies. \nOne of those strategies is that Unearthing Farm is working towards total soil restoration\, requiring an excavation of the land. They are in the process of planning a two day event to salvage plants and trees that are essential to the farm’s mission. \nTogether they aim to cultivate a vibrate community green space through a hyper local farm and market. \n\n\n\nWhat will volunteers do?\n\nVolunteers will support the farm by supporting the salvaging of trees and plants before the excavation of the land begins. \nUnearthing Farm needs support with pruning\, trimming and repotting plants into their temporary home. A workshop will happen before the repotting begins to show volunteers the most supportive way to transition the plants and trees. \n\n\n\nWhat will volunteers need to bring or wear?\n\nPlease wear long sleeve\, pants and close toed shoes. PPE (masks\, booties and gloves) will be provided to everyone during this event and we asks that all volunteers utilizes what’s provided.
URL:https://scienceforgeorgia.org/event/unearthing-farm-soil-restoration-a-plant-salvaging-event/2025-11-16/
LOCATION:Unearthing Farms\, 1534 Memorial Dr SE\, Atlanta\, Georgia\, 30317
CATEGORIES:Community Event
ATTACH;FMTTYPE=image/jpeg:https://scienceforgeorgia.org/wp-content/uploads/2025/11/WhatsApp-Image-2025-11-03-at-5.26.07-PM.jpeg
END:VEVENT
END:VCALENDAR