BEGIN:VCALENDAR
VERSION:2.0
PRODID:-//Science for Georgia - ECPv6.15.20//NONSGML v1.0//EN
CALSCALE:GREGORIAN
METHOD:PUBLISH
X-WR-CALNAME:Science for Georgia
X-ORIGINAL-URL:https://scienceforgeorgia.org
X-WR-CALDESC:Events for Science for Georgia
REFRESH-INTERVAL;VALUE=DURATION:PT1H
X-Robots-Tag:noindex
X-PUBLISHED-TTL:PT1H
BEGIN:VTIMEZONE
TZID:America/New_York
BEGIN:DAYLIGHT
TZOFFSETFROM:-0500
TZOFFSETTO:-0400
TZNAME:EDT
DTSTART:20230312T070000
END:DAYLIGHT
BEGIN:STANDARD
TZOFFSETFROM:-0400
TZOFFSETTO:-0500
TZNAME:EST
DTSTART:20231105T060000
END:STANDARD
BEGIN:DAYLIGHT
TZOFFSETFROM:-0500
TZOFFSETTO:-0400
TZNAME:EDT
DTSTART:20240310T070000
END:DAYLIGHT
BEGIN:STANDARD
TZOFFSETFROM:-0400
TZOFFSETTO:-0500
TZNAME:EST
DTSTART:20241103T060000
END:STANDARD
BEGIN:DAYLIGHT
TZOFFSETFROM:-0500
TZOFFSETTO:-0400
TZNAME:EDT
DTSTART:20250309T070000
END:DAYLIGHT
BEGIN:STANDARD
TZOFFSETFROM:-0400
TZOFFSETTO:-0500
TZNAME:EST
DTSTART:20251102T060000
END:STANDARD
END:VTIMEZONE
BEGIN:VEVENT
DTSTART;TZID=America/New_York:20241024T190000
DTEND;TZID=America/New_York:20241024T213000
DTSTAMP:20260422T133512
CREATED:20240802T185413Z
LAST-MODIFIED:20241009T184947Z
UID:10000085-1729796400-1729805400@scienceforgeorgia.org
SUMMARY:Jazz Hands: Malignant Humor
DESCRIPTION:Science for Georgia Presents: \nMalignant Humor \nA special Jazz Hands Science Comedy show where we kill cancer with comedy \nTickets: Please use the form here to purchase your tickets! \nCheck out the main page for more information\, the comics\, and exciting sponsors! \nOct 24\, 2024\n7:30-9:30pm\, doors 7:00pm\nWild Heaven Beer: West End Brewery & Gardens\n1010 White St SW\, Atlanta\, GA 30310 \nPresenting Sponsor\n\nA special thank you to Wild Heaven Beer! They are generously providing the space for this event. \n\n\n\n\n\n\n\n  \n\n\n\n\n\n\nIn honor of survivors everywhere\, including two Science for Georgia stand-up comedians\, we are hosting a special edition of Jazz Hands to support a very special cause: Cancer Research. \nHalf of the show’s proceeds will be donated to Emory Winship Cancer Center – where our two comedians were treated. \nEvery year we train a cohort of scientists\, technologists\, engineers\, mathematicians\, physicians (anyone STEM-adjacent) in the art of stand-up comedy. The result? A live stand-up show where normal science & technology professionals tell jokes about their work and studies. \nLaugh! Maybe learn something! Kill cancer with comedy! \n Learn more here! \n*** \nTickets include Taco Bar and comedy performances. Cash bar available serving beer and wine.\nAGES 21+ ONLY. PHOTO ID REQUIRED AT CHECK-IN. \nSHOW WILL CONTAIN ADULT LANGUAGE. \nScience Jazz Hands Tickets
URL:https://scienceforgeorgia.org/event/jazz-hands-malignant-humor/
LOCATION:Wild Heaven\, West End\, 1010 White St SW\, Atlanta\, GA\, 30310
CATEGORIES:Partner Event,Special Event
ATTACH;FMTTYPE=image/png:https://scienceforgeorgia.org/wp-content/uploads/2024/08/Event-Calendar-Title-Graphic.png
END:VEVENT
END:VCALENDAR