BEGIN:VCALENDAR
VERSION:2.0
PRODID:-//Science for Georgia - ECPv6.15.20//NONSGML v1.0//EN
CALSCALE:GREGORIAN
METHOD:PUBLISH
X-ORIGINAL-URL:https://scienceforgeorgia.org
X-WR-CALDESC:Events for Science for Georgia
REFRESH-INTERVAL;VALUE=DURATION:PT1H
X-Robots-Tag:noindex
X-PUBLISHED-TTL:PT1H
BEGIN:VTIMEZONE
TZID:America/New_York
BEGIN:DAYLIGHT
TZOFFSETFROM:-0500
TZOFFSETTO:-0400
TZNAME:EDT
DTSTART:20240310T070000
END:DAYLIGHT
BEGIN:STANDARD
TZOFFSETFROM:-0400
TZOFFSETTO:-0500
TZNAME:EST
DTSTART:20241103T060000
END:STANDARD
BEGIN:DAYLIGHT
TZOFFSETFROM:-0500
TZOFFSETTO:-0400
TZNAME:EDT
DTSTART:20250309T070000
END:DAYLIGHT
BEGIN:STANDARD
TZOFFSETFROM:-0400
TZOFFSETTO:-0500
TZNAME:EST
DTSTART:20251102T060000
END:STANDARD
BEGIN:DAYLIGHT
TZOFFSETFROM:-0500
TZOFFSETTO:-0400
TZNAME:EDT
DTSTART:20260308T070000
END:DAYLIGHT
BEGIN:STANDARD
TZOFFSETFROM:-0400
TZOFFSETTO:-0500
TZNAME:EST
DTSTART:20261101T060000
END:STANDARD
END:VTIMEZONE
BEGIN:VEVENT
DTSTART;TZID=America/New_York:20250926T190000
DTEND;TZID=America/New_York:20250926T210000
DTSTAMP:20260421T051509
CREATED:20250826T192719Z
LAST-MODIFIED:20250927T210100Z
UID:10000449-1758913200-1758920400@scienceforgeorgia.org
SUMMARY:GSJ: Georgia's Water Wars\, Part 1 - Surface Water
DESCRIPTION:  \nGeorgia’s Water Wars\, Part 1 – Surface Water \nFriday\, September 26th\, 7-9 pm \nIn-Person and Streaming \nLocation: Wild Heaven West End\, 1010 White St SW\, Atlanta\, Ga 30310 \nFeatured Speaker: John Clarke \nWater is the lifeblood of our planet. Throughout history to the present day\, wars have been waged over this precious resource.  In Georgia\, conflicts have arisen with competitors in adjacent states and within our borders. This presentation will focus on surface water issues including the quantity and quality of water in the Chattahoochee-Flint and Savannah Rivers\, sewer spills and leaks\, and interbasin transfers. \nJohn Clarke\nSpeaker Name: \nJohn Clarke\, Retired Assistant Director\, USGS Georgia Water Science Center\, Atlanta\, Georgia\nSpeaker Bio: \nJohn Clarke retired in January 2014 after a 35-year career with the USGS Georgia Water Science Center. As hydrologist and Assistant Director for Hydrologic Investigations\, he authored or co-authored more than 50 papers on Georgia groundwater\, and twice served as president of the Georgia Ground Water Association.  Notable project work included study of the potential for offsite migration of contaminants at the U.S. Department of Energy’s Savannah River Site; development of a hydrologic overview of Israel\, Jordan\, and Palestinian territories as part of the State Department’s ongoing peace initiative; and design and implementation of the Georgia Coastal Sound Science Initiative—a 7 ½-year\, $14.5 million set of projects commissioned by the Georgia Environmental Protection Division to assess coastal area groundwater resources and address issues of salt-water intrusion and resource sustainability. John is a certified groundwater professional and received a BS Degree in Earth Sciences from the State University of New York at Brockport. \n 
URL:https://scienceforgeorgia.org/event/gsj-georgias-water-wars-part-1/
LOCATION:Wild Heaven\, West End\, 1010 White St SW\, Atlanta\, GA\, 30310
CATEGORIES:Georgia Science Junction
ATTACH;FMTTYPE=image/jpeg:https://scienceforgeorgia.org/wp-content/uploads/2025/08/GSJ-Event-Graphic-Science-for-Georgia-1.jpg
ORGANIZER;CN="Science for Georgia%2C Inc.":MAILTO:info@sci4ga.org
END:VEVENT
END:VCALENDAR