BEGIN:VCALENDAR
VERSION:2.0
PRODID:-//Science for Georgia - ECPv6.15.20//NONSGML v1.0//EN
CALSCALE:GREGORIAN
METHOD:PUBLISH
X-WR-CALNAME:Science for Georgia
X-ORIGINAL-URL:https://scienceforgeorgia.org
X-WR-CALDESC:Events for Science for Georgia
REFRESH-INTERVAL;VALUE=DURATION:PT1H
X-Robots-Tag:noindex
X-PUBLISHED-TTL:PT1H
BEGIN:VTIMEZONE
TZID:America/New_York
BEGIN:DAYLIGHT
TZOFFSETFROM:-0500
TZOFFSETTO:-0400
TZNAME:EDT
DTSTART:20250309T070000
END:DAYLIGHT
BEGIN:STANDARD
TZOFFSETFROM:-0400
TZOFFSETTO:-0500
TZNAME:EST
DTSTART:20251102T060000
END:STANDARD
BEGIN:DAYLIGHT
TZOFFSETFROM:-0500
TZOFFSETTO:-0400
TZNAME:EDT
DTSTART:20260308T070000
END:DAYLIGHT
BEGIN:STANDARD
TZOFFSETFROM:-0400
TZOFFSETTO:-0500
TZNAME:EST
DTSTART:20261101T060000
END:STANDARD
BEGIN:DAYLIGHT
TZOFFSETFROM:-0500
TZOFFSETTO:-0400
TZNAME:EDT
DTSTART:20270314T070000
END:DAYLIGHT
BEGIN:STANDARD
TZOFFSETFROM:-0400
TZOFFSETTO:-0500
TZNAME:EST
DTSTART:20271107T060000
END:STANDARD
END:VTIMEZONE
BEGIN:VEVENT
DTSTART;TZID=America/New_York:20261018T100000
DTEND;TZID=America/New_York:20261018T110000
DTSTAMP:20260421T172345
CREATED:20260303T215416Z
LAST-MODIFIED:20260303T215418Z
UID:10000799-1792317600-1792321200@scienceforgeorgia.org
SUMMARY:Monthly South River Water Testing
DESCRIPTION:Third Sunday of every month \nTime: 10 am \nLocation: Everett Park \nAddress: 5106 Klondike Rd\, Stonecrest\, GA 30038 \nWe will linger in the parking lot for 5-10 minutes before heading down the trail along the water to those first shoals\, where we will be doing our testing and mingling etc…. \nAt our Environmental Justice Forums/Townhalls we heard that people want to know more about what health risks from water and air are in their neighborhoods. So we have started on two approaches to that. First is the water testing project mentioned above. Adopt-A-Stream is a state program consisting of volunteers collecting data on the water sources in their neighborhoods and the area around Everett Park along the South River is not represented in this testing project. So we are getting this started\, not just to gather and monitor data\, but to help the community learn about water testing along the way. 
URL:https://scienceforgeorgia.org/event/monthly-south-river-water-testing-2026-2/2026-10-18/
LOCATION:Everett Park\, 5106 Klondike Rd\, Lithonia\, GA\, 30038
CATEGORIES:Climate Survival Training,Community Event
ORGANIZER;CN="Science for Georgia%2C Inc.":MAILTO:info@sci4ga.org
END:VEVENT
END:VCALENDAR