BEGIN:VCALENDAR
VERSION:2.0
PRODID:-//Science for Georgia - ECPv6.15.20//NONSGML v1.0//EN
CALSCALE:GREGORIAN
METHOD:PUBLISH
X-WR-CALNAME:Science for Georgia
X-ORIGINAL-URL:https://scienceforgeorgia.org
X-WR-CALDESC:Events for Science for Georgia
REFRESH-INTERVAL;VALUE=DURATION:PT1H
X-Robots-Tag:noindex
X-PUBLISHED-TTL:PT1H
BEGIN:VTIMEZONE
TZID:America/New_York
BEGIN:DAYLIGHT
TZOFFSETFROM:-0500
TZOFFSETTO:-0400
TZNAME:EDT
DTSTART:20240310T070000
END:DAYLIGHT
BEGIN:STANDARD
TZOFFSETFROM:-0400
TZOFFSETTO:-0500
TZNAME:EST
DTSTART:20241103T060000
END:STANDARD
BEGIN:DAYLIGHT
TZOFFSETFROM:-0500
TZOFFSETTO:-0400
TZNAME:EDT
DTSTART:20250309T070000
END:DAYLIGHT
BEGIN:STANDARD
TZOFFSETFROM:-0400
TZOFFSETTO:-0500
TZNAME:EST
DTSTART:20251102T060000
END:STANDARD
BEGIN:DAYLIGHT
TZOFFSETFROM:-0500
TZOFFSETTO:-0400
TZNAME:EDT
DTSTART:20260308T070000
END:DAYLIGHT
BEGIN:STANDARD
TZOFFSETFROM:-0400
TZOFFSETTO:-0500
TZNAME:EST
DTSTART:20261101T060000
END:STANDARD
END:VTIMEZONE
BEGIN:VEVENT
DTSTART;TZID=America/New_York:20250313T173000
DTEND;TZID=America/New_York:20250313T183000
DTSTAMP:20260422T151529
CREATED:20250204T230830Z
LAST-MODIFIED:20250310T140043Z
UID:10000292-1741887000-1741890600@scienceforgeorgia.org
SUMMARY:ASF: Sustainable Concrete: Building for the Future
DESCRIPTION:Sustainable Concrete: Building for the Future\nPresented by Science for Georgia\, Synthetic Aggregate Association \nThursday\, March 13th\, 2025\n5:30 PM – 6:30 PM \n684 Mountain Dr NE\nAtlanta\, GA 30342 \n  \nJoin Us for a Hands-On Sustainable Construction Event! \nLearn about the future of sustainable construction! Synthetic Aggregate Association is partnering with Science for Georgia to host an exciting\, hands-on event focused on sustainable construction practices. \n  \nWe will be at a new Buckhead PATH 400 site showcasing how hard-to-recycle waste materials can be repurposed into concrete—helping to reduce the environmental impact of construction. Learn how hard-to-recycle waste materials can be repurposed into concrete\, helping to reduce construction’s environmental impact. \nSee sustainability in action with a live demonstration of how concrete can incorporate 44% recycled content\, lowering embodied carbon\, reducing weight\, and enhancing insulation. \n🔹 Get hands-on experience by mixing your own Belter Tech sustainable concrete. \n🔹 Create your own concrete turtle and contribute to building a greener\, more sustainable public space! \nCome be part of the movement to build smarter and greener—one mix at a time! \nRSVP Using the Form Below\nEJ Forum\n \n\nGetting There \nAlternative Transportation\nTake the MARTA red line train northbound toward North Springs Station\, then take the Medical Center Station stop. Locate the bus for Route 5 toward Lindbergh Center Station. Exit the bus at Roswell Road NE and Windsor Parkway NE. Walk east on Windsor Parkway NE about .3 miles and then left onto Mountain Drive NE for .2 miles to reach Belter Tech.
URL:https://scienceforgeorgia.org/event/asf-sustainable-concrete-building-for-the-future/
LOCATION:684 Mountain Dr NE Atlanta\, GA 30342\, 684 Mountain Dr NE\, Atlanta\, GA\, 30342
CATEGORIES:Partner Event,Special Event
ATTACH;FMTTYPE=image/png:https://scienceforgeorgia.org/wp-content/uploads/2025/02/30o-fWTXWTXtMcO3-68xoC6kdrAefZ5zxtMF8VPcGyM.png
ORGANIZER;CN="Science for Georgia%2C Inc.":MAILTO:info@sci4ga.org
END:VEVENT
END:VCALENDAR