BEGIN:VCALENDAR
VERSION:2.0
PRODID:-//Science for Georgia - ECPv6.15.20//NONSGML v1.0//EN
CALSCALE:GREGORIAN
METHOD:PUBLISH
X-WR-CALNAME:Science for Georgia
X-ORIGINAL-URL:https://scienceforgeorgia.org
X-WR-CALDESC:Events for Science for Georgia
REFRESH-INTERVAL;VALUE=DURATION:PT1H
X-Robots-Tag:noindex
X-PUBLISHED-TTL:PT1H
BEGIN:VTIMEZONE
TZID:America/New_York
BEGIN:DAYLIGHT
TZOFFSETFROM:-0500
TZOFFSETTO:-0400
TZNAME:EDT
DTSTART:20240310T070000
END:DAYLIGHT
BEGIN:STANDARD
TZOFFSETFROM:-0400
TZOFFSETTO:-0500
TZNAME:EST
DTSTART:20241103T060000
END:STANDARD
BEGIN:DAYLIGHT
TZOFFSETFROM:-0500
TZOFFSETTO:-0400
TZNAME:EDT
DTSTART:20250309T070000
END:DAYLIGHT
BEGIN:STANDARD
TZOFFSETFROM:-0400
TZOFFSETTO:-0500
TZNAME:EST
DTSTART:20251102T060000
END:STANDARD
BEGIN:DAYLIGHT
TZOFFSETFROM:-0500
TZOFFSETTO:-0400
TZNAME:EDT
DTSTART:20260308T070000
END:DAYLIGHT
BEGIN:STANDARD
TZOFFSETFROM:-0400
TZOFFSETTO:-0500
TZNAME:EST
DTSTART:20261101T060000
END:STANDARD
END:VTIMEZONE
BEGIN:VEVENT
DTSTART;TZID=America/New_York:20250430T160000
DTEND;TZID=America/New_York:20250430T200000
DTSTAMP:20260422T091906
CREATED:20250403T180122Z
LAST-MODIFIED:20250403T180227Z
UID:10000304-1746028800-1746043200@scienceforgeorgia.org
SUMMARY:Cobb County Sustainability Forum & Expo 2025
DESCRIPTION:April 30\, 2025 \n\nJoin us for the Cobb County Sustainability Forum & Expo 2025\, taking place on April 30\, 2025 at Jim Miller Park! Attend sessions\, demonstrations\, and interactive exhibits and learn about green initiatives that impact you! \n\nScience for Georgia will be tabling there! \n\nThis event will take place from 4:00 pm – 8:00 pm and food will be served (RSVP required for dinner). We look forward to seeing you there!
URL:https://scienceforgeorgia.org/event/cobb-county-sustainability-forum-expo-2025/
LOCATION:Jim Miller Park Event Center\, 2245 Callaway Rd. SW\, Marietta\, GA\, 30008
CATEGORIES:Community Event
ATTACH;FMTTYPE=image/jpeg:https://scienceforgeorgia.org/wp-content/uploads/2025/04/Multicolor-Modern-Business-Expo-LinkedIn-Post.jpg
END:VEVENT
END:VCALENDAR