BEGIN:VCALENDAR
VERSION:2.0
PRODID:-//Science for Georgia - ECPv6.15.20//NONSGML v1.0//EN
CALSCALE:GREGORIAN
METHOD:PUBLISH
X-ORIGINAL-URL:https://scienceforgeorgia.org
X-WR-CALDESC:Events for Science for Georgia
REFRESH-INTERVAL;VALUE=DURATION:PT1H
X-Robots-Tag:noindex
X-PUBLISHED-TTL:PT1H
BEGIN:VTIMEZONE
TZID:America/New_York
BEGIN:DAYLIGHT
TZOFFSETFROM:-0500
TZOFFSETTO:-0400
TZNAME:EDT
DTSTART:20240310T070000
END:DAYLIGHT
BEGIN:STANDARD
TZOFFSETFROM:-0400
TZOFFSETTO:-0500
TZNAME:EST
DTSTART:20241103T060000
END:STANDARD
BEGIN:DAYLIGHT
TZOFFSETFROM:-0500
TZOFFSETTO:-0400
TZNAME:EDT
DTSTART:20250309T070000
END:DAYLIGHT
BEGIN:STANDARD
TZOFFSETFROM:-0400
TZOFFSETTO:-0500
TZNAME:EST
DTSTART:20251102T060000
END:STANDARD
BEGIN:DAYLIGHT
TZOFFSETFROM:-0500
TZOFFSETTO:-0400
TZNAME:EDT
DTSTART:20260308T070000
END:DAYLIGHT
BEGIN:STANDARD
TZOFFSETFROM:-0400
TZOFFSETTO:-0500
TZNAME:EST
DTSTART:20261101T060000
END:STANDARD
END:VTIMEZONE
BEGIN:VEVENT
DTSTART;TZID=America/New_York:20250621T183000
DTEND;TZID=America/New_York:20250621T200000
DTSTAMP:20260424T190715
CREATED:20250618T202916Z
LAST-MODIFIED:20250618T202917Z
UID:10000432-1750530600-1750536000@scienceforgeorgia.org
SUMMARY:Teach In: Demystifying Research Articles
DESCRIPTION:Saturday\, June 21th\, 6:30-8 pm \nIn-Person \nLocation: Dancing Goats Buckhead • 3167 Peachtree Rd\, Atlanta\, GA 30305 \nHost Contact Info: info@standupforscience.net \nFeatured Speaker:  Caroline Conway \n\nDemystifying Research Articles\nSpeaker: Caroline Conway \nJoin SUFS for a workshop on how to break down the breakthroughs! We’ll discuss how to split scientific articles into digestible pieces\, the differing complexity at various levels of scientific reporting\, and how federal funding impacts the public’s access to research findings. Feel free to stop by for part or all of the event — we’d love to see you! This workshop will be led by Caroline Conway\, a clinical research specialist who studies the neuroscience of depression. \nThanks for RSVPing for the Summer Fight for Science. We’re excited to welcome you\nto the upcoming epic summer in the streets of American science. \nYou’ll be receiving information soon from your event host with details about the event and\nthey can answer any questions you might have. Please let us know if there are any specific question(s) you’d like discussed at this event. We can’t promise that we’ll be able to cover everything\, but we’ll do our best! \nNote that the venue has free parking. If the front lot is full\, there is additional parking in the back. This location has plenty of bicycle parking and is accessible via the Peachtree Rd NE / Buckhead Plaza stop on bus route 110. \nPlease don’t forget to invite your friends\, family\, and colleagues if they’re as ready as you are to stand up and fight back for science this summer and beyond. \nSee you soon! \n  \nRSVP Here for FREE
URL:https://scienceforgeorgia.org/event/teach-in-demystifying-research-articles/
LOCATION:Dancing Goats – Buckhead\, 3167 Peachtree Rd\, Atlanta\, 30305\, United States
CATEGORIES:Partner Event
ATTACH;FMTTYPE=image/avif:https://scienceforgeorgia.org/wp-content/uploads/2025/06/https___cdn.evbuc_.com_images_1054744923_539279367571_1_original.avif
END:VEVENT
BEGIN:VEVENT
DTSTART;TZID=America/New_York:20250625T190000
DTEND;TZID=America/New_York:20250625T210000
DTSTAMP:20260424T190715
CREATED:20250618T194543Z
LAST-MODIFIED:20250620T201215Z
UID:10000431-1750878000-1750885200@scienceforgeorgia.org
SUMMARY:GSJ Teach In: How do our pets think? How do we find out?
DESCRIPTION:Wednesday\, June 25th\, 7-9 pm \nIn-Person \nLocation: Sceptre Brewing Arts • 630 East Lake Drive\, Decatur\, GA 30030 US \nHost Contact Info: quinneastman@gmail.com \nFeatured Speaker: Gita Gnanadesikan\, PhD \n\nHow do our pets think? How do we find out?\nSpeaker: Gita Gnanadesikan\, PhD \nUntil April 2025\, Dr Gnanadesikan was a FIRST (Fellowships In Research and Science Teaching) postdoctoral fellow at Emory University. For her PhD\, she studied animal behavior\, genetics and endocrinology at the University of Arizona. She is an expert on measuring oxytocin\, a hormone associated with social interactions in humans and pets. \nA Stand Up for Science Teach-In \n*The importance of federal support for scientific research and its benefits for our community will be discussed! \nJoin us as we share this thoughtful talk with Stand Up For Science! This Georgia Science Junction is FREE to all attendees! \n  \nRSVP Here for FREE
URL:https://scienceforgeorgia.org/event/gsj-teach-in-how-do-our-pets-think-how-do-we-find-out/
LOCATION:Sceptre Brewing Arts\, 630 East Lake Drive\, Decatur\, GA\, 30030\, United States
CATEGORIES:Georgia Science Junction,Partner Event
ATTACH;FMTTYPE=image/png:https://scienceforgeorgia.org/wp-content/uploads/2025/06/Cobranded-Teach-In-w-Gita-G-flyer-1.png
END:VEVENT
END:VCALENDAR