BEGIN:VCALENDAR
VERSION:2.0
PRODID:-//Science for Georgia - ECPv6.15.20//NONSGML v1.0//EN
CALSCALE:GREGORIAN
METHOD:PUBLISH
X-ORIGINAL-URL:https://scienceforgeorgia.org
X-WR-CALDESC:Events for Science for Georgia
REFRESH-INTERVAL;VALUE=DURATION:PT1H
X-Robots-Tag:noindex
X-PUBLISHED-TTL:PT1H
BEGIN:VTIMEZONE
TZID:America/New_York
BEGIN:DAYLIGHT
TZOFFSETFROM:-0500
TZOFFSETTO:-0400
TZNAME:EDT
DTSTART:20240310T070000
END:DAYLIGHT
BEGIN:STANDARD
TZOFFSETFROM:-0400
TZOFFSETTO:-0500
TZNAME:EST
DTSTART:20241103T060000
END:STANDARD
BEGIN:DAYLIGHT
TZOFFSETFROM:-0500
TZOFFSETTO:-0400
TZNAME:EDT
DTSTART:20250309T070000
END:DAYLIGHT
BEGIN:STANDARD
TZOFFSETFROM:-0400
TZOFFSETTO:-0500
TZNAME:EST
DTSTART:20251102T060000
END:STANDARD
BEGIN:DAYLIGHT
TZOFFSETFROM:-0500
TZOFFSETTO:-0400
TZNAME:EDT
DTSTART:20260308T070000
END:DAYLIGHT
BEGIN:STANDARD
TZOFFSETFROM:-0400
TZOFFSETTO:-0500
TZNAME:EST
DTSTART:20261101T060000
END:STANDARD
END:VTIMEZONE
BEGIN:VEVENT
DTSTART;TZID=America/New_York:20251023T190000
DTEND;TZID=America/New_York:20251023T203000
DTSTAMP:20260421T172648
CREATED:20250828T024707Z
LAST-MODIFIED:20251023T230111Z
UID:10000450-1761246000-1761251400@scienceforgeorgia.org
SUMMARY:GSJ: Eight Legs\, Endless Fascination
DESCRIPTION:Eight Legs\, Endless Fascination: An Introduction to Georgia Spiders for Aficionados and Arachnophobes! \nThursday\, October 23rd\, 7-8:30 pm \nIn-Person and Streaming \nCheck out the stream on our YouTube. \nLocation: Wild Heaven\, Toco Hills – 2935B N Druid Hills Rd NE\, Atlanta\, GA 30329 \nFeatured Speaker: Erin Ricketts\, MD \nAre the spiders in your yard causing you to itch? Are you afraid of things with too many legs? Do you know how to tell if that web you walked into belongs to something venomous? Do you like the idea of spiders\, but need a little more help to actually love them? Then we have something fun for you. Whether you are an aficionado or arachnophobe\, if you are looking for laughs\, facts\, and new spider skills\, this is the presentation for you. \n  \nSpeaker Name: \nErin Ricketts\, MD\nSpeaker Bio: \n\nErin Ricketts is a Medical Officer working in Global Tuberculosis. From 2021-2023 she served in the Epidemic Intelligence Service as a field officer in North Carolina where she played the role of the state Legionella subject matter expert and worked on state and national outbreaks of infectious disease including monkeypox virus\, COVID-19\, highly-pathogenic avian influenza\, pediatric hepatitis\, and varicella. She also played roles in advising residents on rabies exposure guidelines and dragging ticks for Powassan virus. She received her Doctor of Medicine degree in 2018 at Tulane University and completed her residency in Internal Medicine at UC Riverside in 2021 where she co-founded Inland Empire Harm Reduction.\n\nIn her free time Erin is an entomology hobbyist and helps operate the National Spider Support Facebook group and moderate r/spiderbites and r/brownreclusebites on Reddit. She no longer keeps hundreds of venomous spiders for nebulous research projects but has been known to have a captured Latrodectus species at home on occasion.\n\n  \nGeorgia Science Junction
URL:https://scienceforgeorgia.org/event/gsj-spiders-in-the-south/
LOCATION:Wild Heaven\, Toco Hills\, 2935B N Druid Hills Rd NE\, Atlanta\, GA\, 30329\, United States
CATEGORIES:Georgia Science Junction
ATTACH;FMTTYPE=image/jpeg:https://scienceforgeorgia.org/wp-content/uploads/2025/08/GSJ-Event-Graphic-Spiders.jpg
ORGANIZER;CN="Science for Georgia%2C Inc.":MAILTO:info@sci4ga.org
END:VEVENT
END:VCALENDAR