BEGIN:VCALENDAR
VERSION:2.0
PRODID:-//Science for Georgia - ECPv6.15.20//NONSGML v1.0//EN
CALSCALE:GREGORIAN
METHOD:PUBLISH
X-WR-CALNAME:Science for Georgia
X-ORIGINAL-URL:https://scienceforgeorgia.org
X-WR-CALDESC:Events for Science for Georgia
REFRESH-INTERVAL;VALUE=DURATION:PT1H
X-Robots-Tag:noindex
X-PUBLISHED-TTL:PT1H
BEGIN:VTIMEZONE
TZID:America/New_York
BEGIN:DAYLIGHT
TZOFFSETFROM:-0500
TZOFFSETTO:-0400
TZNAME:EDT
DTSTART:20240310T070000
END:DAYLIGHT
BEGIN:STANDARD
TZOFFSETFROM:-0400
TZOFFSETTO:-0500
TZNAME:EST
DTSTART:20241103T060000
END:STANDARD
BEGIN:DAYLIGHT
TZOFFSETFROM:-0500
TZOFFSETTO:-0400
TZNAME:EDT
DTSTART:20250309T070000
END:DAYLIGHT
BEGIN:STANDARD
TZOFFSETFROM:-0400
TZOFFSETTO:-0500
TZNAME:EST
DTSTART:20251102T060000
END:STANDARD
BEGIN:DAYLIGHT
TZOFFSETFROM:-0500
TZOFFSETTO:-0400
TZNAME:EDT
DTSTART:20260308T070000
END:DAYLIGHT
BEGIN:STANDARD
TZOFFSETFROM:-0400
TZOFFSETTO:-0500
TZNAME:EST
DTSTART:20261101T060000
END:STANDARD
END:VTIMEZONE
BEGIN:VEVENT
DTSTART;TZID=America/New_York:20250123T190000
DTEND;TZID=America/New_York:20250123T210000
DTSTAMP:20260422T123409
CREATED:20241229T185620Z
LAST-MODIFIED:20250121T193445Z
UID:10000282-1737658800-1737666000@scienceforgeorgia.org
SUMMARY:GSJ: Science Trivia Night
DESCRIPTION:Thursday\, January 23rd\, 7-9 pm \nIn-Person \nLocation: High Card Brewing\, 2316 Main St\, Tucker\, GA 30084 \nScience Trivia Night \nJoin fellow science enthusiasts as we begin our year of combating misinformation with education! Test your science knowledge and learn about the world around us in Georgia. \nThe night will included a quick update for the upcoming Georgia Legislative Session. \n  \nWill your team find the truth? Let’s find out! \n  \nScience Trivia
URL:https://scienceforgeorgia.org/event/gsj-science-trivia-night/
LOCATION:High Card Brewing\, 2316 Main St\, Tucker\, GA\, 30084
CATEGORIES:Georgia Science Junction
ATTACH;FMTTYPE=image/jpeg:https://scienceforgeorgia.org/wp-content/uploads/2024/12/GSJ-Event-Graphic-Science-Trivia.jpg
ORGANIZER;CN="Science for Georgia%2C Inc.":MAILTO:info@sci4ga.org
END:VEVENT
END:VCALENDAR