BEGIN:VCALENDAR
VERSION:2.0
PRODID:-//Science for Georgia - ECPv6.15.20//NONSGML v1.0//EN
CALSCALE:GREGORIAN
METHOD:PUBLISH
X-WR-CALNAME:Science for Georgia
X-ORIGINAL-URL:https://scienceforgeorgia.org
X-WR-CALDESC:Events for Science for Georgia
REFRESH-INTERVAL;VALUE=DURATION:PT1H
X-Robots-Tag:noindex
X-PUBLISHED-TTL:PT1H
BEGIN:VTIMEZONE
TZID:America/New_York
BEGIN:DAYLIGHT
TZOFFSETFROM:-0500
TZOFFSETTO:-0400
TZNAME:EDT
DTSTART:20240310T070000
END:DAYLIGHT
BEGIN:STANDARD
TZOFFSETFROM:-0400
TZOFFSETTO:-0500
TZNAME:EST
DTSTART:20241103T060000
END:STANDARD
BEGIN:DAYLIGHT
TZOFFSETFROM:-0500
TZOFFSETTO:-0400
TZNAME:EDT
DTSTART:20250309T070000
END:DAYLIGHT
BEGIN:STANDARD
TZOFFSETFROM:-0400
TZOFFSETTO:-0500
TZNAME:EST
DTSTART:20251102T060000
END:STANDARD
BEGIN:DAYLIGHT
TZOFFSETFROM:-0500
TZOFFSETTO:-0400
TZNAME:EDT
DTSTART:20260308T070000
END:DAYLIGHT
BEGIN:STANDARD
TZOFFSETFROM:-0400
TZOFFSETTO:-0500
TZNAME:EST
DTSTART:20261101T060000
END:STANDARD
END:VTIMEZONE
BEGIN:VEVENT
DTSTART;TZID=America/New_York:20250924T183000
DTEND;TZID=America/New_York:20250924T200000
DTSTAMP:20260421T171102
CREATED:20250830T161451Z
LAST-MODIFIED:20250830T161451Z
UID:10000452-1758738600-1758744000@scienceforgeorgia.org
SUMMARY:GSJ: Wild Minds: Is there a Bilingual Advantage?
DESCRIPTION:Wednesday\, September 24th\, 6:30-8 pm \nIn-Person \nLocation: Wild Heaven Toco Hills\, Brite Room • 2935B N Druid Hills Rd NE\, Atlanta\, GA 30329 \nTickets: $10 (Includes one Drink) at the door \nFeatured Speaker: Dr. Brianna Yamasaki \n  \nIs there a Bilingual Advantage? \nSpeaker: Dr. Brianna Yamasaki \nDr. Yamasaki will discuss the bilingual advantage\, or the idea that speaking multiple languages leads to cognitive and academic benefits. We’ll take a look at how these claims hold up under scientific scrutiny and ask: Is being bilingual really a mental superpower\, or is the story more complex? \nJoin Science for Georgia as we support the Wild Minds series from Wild Heaven Brewing and share this thoughtful talk! \n 
URL:https://scienceforgeorgia.org/event/gsj-wild-minds-bilingual-advantage/
LOCATION:Wild Heaven\, Toco Hills\, 2935B N Druid Hills Rd NE\, Atlanta\, GA\, 30329\, United States
CATEGORIES:Georgia Science Junction,Partner Event
ATTACH;FMTTYPE=image/jpeg:https://scienceforgeorgia.org/wp-content/uploads/2025/08/WH-TH-WildMinds-Tile2.jpg
END:VEVENT
END:VCALENDAR