BEGIN:VCALENDAR
VERSION:2.0
PRODID:-//Science for Georgia - ECPv6.15.20//NONSGML v1.0//EN
CALSCALE:GREGORIAN
METHOD:PUBLISH
X-ORIGINAL-URL:https://scienceforgeorgia.org
X-WR-CALDESC:Events for Science for Georgia
REFRESH-INTERVAL;VALUE=DURATION:PT1H
X-Robots-Tag:noindex
X-PUBLISHED-TTL:PT1H
BEGIN:VTIMEZONE
TZID:America/New_York
BEGIN:DAYLIGHT
TZOFFSETFROM:-0500
TZOFFSETTO:-0400
TZNAME:EDT
DTSTART:20230312T070000
END:DAYLIGHT
BEGIN:STANDARD
TZOFFSETFROM:-0400
TZOFFSETTO:-0500
TZNAME:EST
DTSTART:20231105T060000
END:STANDARD
BEGIN:DAYLIGHT
TZOFFSETFROM:-0500
TZOFFSETTO:-0400
TZNAME:EDT
DTSTART:20240310T070000
END:DAYLIGHT
BEGIN:STANDARD
TZOFFSETFROM:-0400
TZOFFSETTO:-0500
TZNAME:EST
DTSTART:20241103T060000
END:STANDARD
BEGIN:DAYLIGHT
TZOFFSETFROM:-0500
TZOFFSETTO:-0400
TZNAME:EDT
DTSTART:20250309T070000
END:DAYLIGHT
BEGIN:STANDARD
TZOFFSETFROM:-0400
TZOFFSETTO:-0500
TZNAME:EST
DTSTART:20251102T060000
END:STANDARD
END:VTIMEZONE
BEGIN:VEVENT
DTSTART;TZID=America/New_York:20240328T183000
DTEND;TZID=America/New_York:20240328T203000
DTSTAMP:20260423T131237
CREATED:20240312T230353Z
LAST-MODIFIED:20240312T230853Z
UID:10000013-1711650600-1711657800@scienceforgeorgia.org
SUMMARY:Envisioning Wild Hope in Georgia
DESCRIPTION:Join us at Manuel’s Tavern for food\, drinks\, giveaways\, and conversations about Wild Hope! \nEmbark on an evening of captivating stories and community engagement as we explore the evolution of the Fruitful Community Foundation. Then hear from local visionaries on their ideas for Wild Hope.  In partnership with the Fruitful Community Foundation\, Science for Georgia and Georgia Public Broadcasting. \n6pm                 Reception (first drink free and free appetizers!) \n6:30                 Panel discussion \n7:00                 Conversation with Science for Georgia \n7:30                 Q&A \nIf you have specific accessibility needs\, please contact Amanda Densmore at adensmore@gpb.org \nRegister Here for this Free event! \nAbout Fruitful Community \nThe Fruitful Community Foundation educates and empowers eco-advocate leaders\, landscapers\, and lawmakers to transform public spaces into vibrant climate-resilient ecosystems. Our outreach programs foster hope by training the next generation of land stewards\, who learn to convert resource intensive green spaces into productive\, fruitful landscapes. \nLearn more about their plans for 2024 here. \nAbout Science for Georgia \nScience for Georgia strives to create a connected\, vibrant\, and sustainable science community\, weaving science into the fabric of Georgia by making science trustworthy\, accessible\, inclusive\, and a foundation of GA’s prosperity. \nOur mission is to improve communication between scientists and the public; increase public engagement with science; advocate for the responsible use of science in public policy. \nAbout Wild Hope \nWild Hope is a new series of short films that highlights the intrepid changemakers who are restoring our wild places and sparking new hope for the future of our planet.  Watch episodes for free here.
URL:https://scienceforgeorgia.org/event/envisioning-wild-hope-in-georgia/
LOCATION:Manuel’s Tavern\, 602 North Highland Avenue Northeast\, Atlanta\, GA\, 30307
CATEGORIES:Partner Event
ATTACH;FMTTYPE=image/png:https://scienceforgeorgia.org/wp-content/uploads/2024/03/FB-Event-Image.png
ORGANIZER;CN="Science for Georgia%2C Inc.":MAILTO:info@sci4ga.org
END:VEVENT
END:VCALENDAR