BEGIN:VCALENDAR
VERSION:2.0
PRODID:-//Science for Georgia - ECPv6.15.20//NONSGML v1.0//EN
CALSCALE:GREGORIAN
METHOD:PUBLISH
X-ORIGINAL-URL:https://scienceforgeorgia.org
X-WR-CALDESC:Events for Science for Georgia
REFRESH-INTERVAL;VALUE=DURATION:PT1H
X-Robots-Tag:noindex
X-PUBLISHED-TTL:PT1H
BEGIN:VTIMEZONE
TZID:America/New_York
BEGIN:DAYLIGHT
TZOFFSETFROM:-0500
TZOFFSETTO:-0400
TZNAME:EDT
DTSTART:20240310T070000
END:DAYLIGHT
BEGIN:STANDARD
TZOFFSETFROM:-0400
TZOFFSETTO:-0500
TZNAME:EST
DTSTART:20241103T060000
END:STANDARD
BEGIN:DAYLIGHT
TZOFFSETFROM:-0500
TZOFFSETTO:-0400
TZNAME:EDT
DTSTART:20250309T070000
END:DAYLIGHT
BEGIN:STANDARD
TZOFFSETFROM:-0400
TZOFFSETTO:-0500
TZNAME:EST
DTSTART:20251102T060000
END:STANDARD
BEGIN:DAYLIGHT
TZOFFSETFROM:-0500
TZOFFSETTO:-0400
TZNAME:EDT
DTSTART:20260308T070000
END:DAYLIGHT
BEGIN:STANDARD
TZOFFSETFROM:-0400
TZOFFSETTO:-0500
TZNAME:EST
DTSTART:20261101T060000
END:STANDARD
END:VTIMEZONE
BEGIN:VEVENT
DTSTART;TZID=America/New_York:20250626T190000
DTEND;TZID=America/New_York:20250626T210000
DTSTAMP:20260421T174359
CREATED:20250530T202428Z
LAST-MODIFIED:20250602T164029Z
UID:10000369-1750964400-1750971600@scienceforgeorgia.org
SUMMARY:GSJ: Fighting Misinformation in Athens
DESCRIPTION:Thursday\, June 26th\, 7-9 pm \nIn-Person \nLocation: Little Kings Shuffle Club\, 223 W Hancock Ave\, Athens\, GA 30601 \nFeatured Speaker: Michael Czajkowski\, PhD\n \nThings Can Be Better: How to Change Minds and Fight Misinformation \n  \nJoin us as we share this important talk with Athens Science Cafe and Coalition of Athens Scientists! This Georgia Science Junction is FREE to all attendees! \n \n  \nThings feel quite scary right now for a lot of us. We face severe threats both on a political level and perhaps also from some members of our own families and communities. And it is because we do not agree\, we do not see the same things. \nBut the title of the talk is true\, things can be a lot better. The people who don’t agree could be seeing so much more of your side of things. We could be bringing far more of the voters in this country along with us on a path or growth and learning. And it is imperative that we do so. Learn hands-on in this workshop what are the key ingredients to changing minds and fighting misinformation. \n \nSpeaker Name: Michael Czajkowski\, PhD \nSpeaker Bio: \nMichael got their PhD in Physics in 2018 after helping found a science policy graduate student group at Syracuse University. As an IGERT fellow\, they received additional training in communication and advocacy in the Falk College Department of Public Health and the S.I. Newhouse School of Public Communications. Michael moved to Atlanta to work as a postdoc in metamaterial physics at Georgia Tech and has been involved with Science for Georgia for six of those years. Michael is also a volunteer with family education at Decatur Makers\, is a local community organizer\, and was faculty in the 2024 Citizen Science course at Bard College. \n  \nScience of Redistricting
URL:https://scienceforgeorgia.org/event/gsj-fighting-misinformation-in-athens/
LOCATION:Little Kings Shuffle Club\, 223 W Hancock Ave\, Athens\, GA\, 30601\, United States
CATEGORIES:Georgia Science Junction,Partner Event
ATTACH;FMTTYPE=image/jpeg:https://scienceforgeorgia.org/wp-content/uploads/2024/12/GSJ-Event-Graphic-Misinformation.jpg
ORGANIZER;CN="Science for Georgia%2C Inc.":MAILTO:info@sci4ga.org
END:VEVENT
END:VCALENDAR