BEGIN:VCALENDAR
VERSION:2.0
PRODID:-//Science for Georgia - ECPv6.15.20//NONSGML v1.0//EN
CALSCALE:GREGORIAN
METHOD:PUBLISH
X-ORIGINAL-URL:https://scienceforgeorgia.org
X-WR-CALDESC:Events for Science for Georgia
REFRESH-INTERVAL;VALUE=DURATION:PT1H
X-Robots-Tag:noindex
X-PUBLISHED-TTL:PT1H
BEGIN:VTIMEZONE
TZID:America/New_York
BEGIN:DAYLIGHT
TZOFFSETFROM:-0500
TZOFFSETTO:-0400
TZNAME:EDT
DTSTART:20240310T070000
END:DAYLIGHT
BEGIN:STANDARD
TZOFFSETFROM:-0400
TZOFFSETTO:-0500
TZNAME:EST
DTSTART:20241103T060000
END:STANDARD
BEGIN:DAYLIGHT
TZOFFSETFROM:-0500
TZOFFSETTO:-0400
TZNAME:EDT
DTSTART:20250309T070000
END:DAYLIGHT
BEGIN:STANDARD
TZOFFSETFROM:-0400
TZOFFSETTO:-0500
TZNAME:EST
DTSTART:20251102T060000
END:STANDARD
BEGIN:DAYLIGHT
TZOFFSETFROM:-0500
TZOFFSETTO:-0400
TZNAME:EDT
DTSTART:20260308T070000
END:DAYLIGHT
BEGIN:STANDARD
TZOFFSETFROM:-0400
TZOFFSETTO:-0500
TZNAME:EST
DTSTART:20261101T060000
END:STANDARD
END:VTIMEZONE
BEGIN:VEVENT
DTSTART;TZID=America/New_York:20250917T190000
DTEND;TZID=America/New_York:20250917T203000
DTSTAMP:20260421T150001
CREATED:20250825T193743Z
LAST-MODIFIED:20250825T194804Z
UID:10000447-1758135600-1758141000@scienceforgeorgia.org
SUMMARY:GSJ: Science Speaks: Getting Lawmakers to Listen
DESCRIPTION:  \nWednesday\, September 17th\, 7-8:30 pm \nIn-Person \nLocation: Little Kings Shuffle Club\, 223 W Hancock Ave\, Athens\, GA 30601 \nFeatured Speaker: Amy Sharma\, PhD\n \nScience Speaks: Getting Lawmakers to Listen \nJoin us as we share this important talk with Athens Science Cafe and Coalition of Athens Scientists! This Georgia Science Junction is FREE to all attendees! \n \n  \nFeeling a bit overwhelmed by the past few months? \nReady to do something? \nYour legislators need to hear from you! Your voice is critical in advancing the needs of our community. Remember\, your legislator works for you. Learn hands-on in this workshop what are the key ingredients to changing minds and policy. We will discuss effective advocacy communication strategy and provide an overview of upcoming things you can do to advocate for change. \n \nSpeaker Name: Amy Sharma\, PhD \nSpeaker Bio: \nAmy Sharma\, PhD\, is the Executive Director of Science for Georgia\, a non-profit dedicated to engaging scientists and the community in productive dialogue. Its mission is to improve communication among scientists and the public\, increase public engagement with science\, and advocate for the responsible use of science in public policy. In this role she is spearheading achieving Science for Georgia’s vision and mission. \nPrior to joining Science for Georgia\, she was VP of Product for Prediko\, a start-up that was successfully acquired by United Technologies Corp. Dr. Sharma has worked in many aspects of the engineering field: spearheading the development of the big data vertical and managing a $1M annual Independent Research and Development (IRAD) program at GTRI\, working as an Assistant Professor in Medical Physics at the University of Western Australia\, working as an Assistant Program Manager for the National Science Foundation\, receiving political and outreach training as a AAAS Science and Technology Policy Fellow\, obtaining a PhD in Biomedical Engineering at Duke University\, and designing hardware logic for advanced server microprocessors at IBM. \nDr Sharma enjoys difficult challenges\, jobs with overly long titles\, developing big-picture strategies\, communicating scientific and technical ideas to non-scientists\, sewing\, and smoking various foods. \n  \nScience Speaks
URL:https://scienceforgeorgia.org/event/gsj-science-speaks-athens/
LOCATION:Little Kings Shuffle Club\, 223 W Hancock Ave\, Athens\, GA\, 30601\, United States
CATEGORIES:Georgia Science Junction,Partner Event
ATTACH;FMTTYPE=image/jpeg:https://scienceforgeorgia.org/wp-content/uploads/2025/08/GSJ-Flyer.jpg
ORGANIZER;CN="Science for Georgia%2C Inc.":MAILTO:info@sci4ga.org
END:VEVENT
BEGIN:VEVENT
DTSTART;TZID=America/New_York:20250928T140000
DTEND;TZID=America/New_York:20250928T150000
DTSTAMP:20260421T150001
CREATED:20250911T215835Z
LAST-MODIFIED:20250923T144617Z
UID:10000454-1759068000-1759071600@scienceforgeorgia.org
SUMMARY:Things Can Be Better: How to Change Minds and Stop Propaganda
DESCRIPTION:Sunday\, September 28th\, 2-3pm \nIn-Person \nLocation: Charis Books & More\, 184 S. Candler St.\, Decatur\, GA 30030 \nFeatured Speaker: Michael Czajkowski\, PhD\n \nThings Can Be Better: How to Change Minds and Stop Propaganda \n  \nJoin us as we share this important talk with Charis Books & More! This Talk is FREE to all attendees! \n \n  \nThis event takes place in person at Charis and on Crowdcast\, Charis’ virtual event platform. This event is free\, but registration is required for virtual attendance. Click here to register to attend virtually. Please read the in-person event guidelines to be sure you can participate in the event. \n  \nCharis welcomes Michael Czajkowski for Things Can Be Better: How to Change Minds and Stop Propaganda\, a workshop around propaganda\, misinformation\, and offering hope and skills for a way forward. \nWorkshop Description \nI feel vulnerable. Everyday I feel strained and uncertain about my future and safety due to current events. Maybe you do too. To make real progress seems to require the changing of so many minds that feel so close yet so far away. This might feel bleak to you\, but I feel hope about this. Based in science. This workshop is to spread this hope. \nI will review the lesser-known and yet most powerful challenges to the progress of society\, which will be difficult to face. We will then go through a large-scale strategy which turns these challenges into advantages. Finally\, core to this strategy is a lesser known set of interpersonal communication habits\, which we will practice together. \n  \nThe event is free and open to all people\, especially to those who have no income or low income\, but we encourage and appreciate a donation of $5-20 in support of the work of Charis Circle\, our programming non-profit. Charis Circle’s mission is to foster sustainable feminist communities\, work for social justice\, and encourage the expression of diverse and marginalized voices. Donate on Crowdcast or via their website. \n  \n \nWorkshop Facilitator: Michael Czajkowski\, PhD \nMichael Czajkowski is the Director of Advocacy for the nonprofit Science for Georgia working on community science translation projects to support community autonomy\, awareness of environmental health threats\, and resistance against more general forms of misinformation and manipulation. They have diverse experiences working in art\, science\, facilitation\, community organizing and many different levels of education\, which is hopefully leading to useful new insights and perspectives. Michael’s background in soft matter physics is not so relevant to this\, but is pretty fun and they love to talk about it. \n 
URL:https://scienceforgeorgia.org/event/things-can-be-better/
LOCATION:Charis Books & More\, 184 S. Candler St.\, Decatur\, 30030\, United States
CATEGORIES:Community Event,Partner Event
ATTACH;FMTTYPE=image/png:https://scienceforgeorgia.org/wp-content/uploads/2025/09/Facebook-Things-Can-Be-Better-Workshop-9.28.2025-1920-x-1080-px.png
END:VEVENT
END:VCALENDAR