BEGIN:VCALENDAR
VERSION:2.0
PRODID:-//Science for Georgia - ECPv6.15.20//NONSGML v1.0//EN
CALSCALE:GREGORIAN
METHOD:PUBLISH
X-ORIGINAL-URL:https://scienceforgeorgia.org
X-WR-CALDESC:Events for Science for Georgia
REFRESH-INTERVAL;VALUE=DURATION:PT1H
X-Robots-Tag:noindex
X-PUBLISHED-TTL:PT1H
BEGIN:VTIMEZONE
TZID:America/New_York
BEGIN:DAYLIGHT
TZOFFSETFROM:-0500
TZOFFSETTO:-0400
TZNAME:EDT
DTSTART:20240310T070000
END:DAYLIGHT
BEGIN:STANDARD
TZOFFSETFROM:-0400
TZOFFSETTO:-0500
TZNAME:EST
DTSTART:20241103T060000
END:STANDARD
BEGIN:DAYLIGHT
TZOFFSETFROM:-0500
TZOFFSETTO:-0400
TZNAME:EDT
DTSTART:20250309T070000
END:DAYLIGHT
BEGIN:STANDARD
TZOFFSETFROM:-0400
TZOFFSETTO:-0500
TZNAME:EST
DTSTART:20251102T060000
END:STANDARD
BEGIN:DAYLIGHT
TZOFFSETFROM:-0500
TZOFFSETTO:-0400
TZNAME:EDT
DTSTART:20260308T070000
END:DAYLIGHT
BEGIN:STANDARD
TZOFFSETFROM:-0400
TZOFFSETTO:-0500
TZNAME:EST
DTSTART:20261101T060000
END:STANDARD
END:VTIMEZONE
BEGIN:VEVENT
DTSTART;TZID=America/New_York:20250730T183000
DTEND;TZID=America/New_York:20250730T200000
DTSTAMP:20260421T145540
CREATED:20250710T223602Z
LAST-MODIFIED:20250710T223602Z
UID:10000435-1753900200-1753905600@scienceforgeorgia.org
SUMMARY:GSJ: Teach In: Beyond DNA: Epigenetics and YOU
DESCRIPTION:Wednesday\, July 30th\, 6:30-8 pm \nIn-Person and Online \nLocation: Wild Heaven Toco Hills\, Brite Room • 2935B N Druid Hills Rd NE\, Atlanta\, GA 30329 \nTickets: $10 (Includes one Drink) at the door \nHost Contact Info: quinneastman@gmail.com \nFeatured Speaker: David Katz\, PhD \n  \nBeyond DNA: Epigenetics and YOU \nSpeaker: David Katz\, PhD \nCan traits be transmitted from parent to offspring without changes in the DNA itself? David Katz explains epigenetics and its unexpected applications to Alzheimer’s disease. \nA Stand Up for Science Teach-In and the second in the Wild Minds series from Wild Heaven Brewing! \n*The importance of federal support for scientific research and its benefits for our community will be discussed! \nJoin us as we share this thoughtful talk with Stand Up For Science and Wild Minds!
URL:https://scienceforgeorgia.org/event/gsj-teach-in-beyond-dna-epigenetics-and-you/
LOCATION:Wild Heaven\, Toco Hills\, 2935B N Druid Hills Rd NE\, Atlanta\, GA\, 30329\, United States
CATEGORIES:Georgia Science Junction,Partner Event
ATTACH;FMTTYPE=image/png:https://scienceforgeorgia.org/wp-content/uploads/2025/07/Teach-In-w-D-Katz-flyer.png
END:VEVENT
END:VCALENDAR