BEGIN:VCALENDAR
VERSION:2.0
PRODID:-//Science for Georgia - ECPv6.15.20//NONSGML v1.0//EN
CALSCALE:GREGORIAN
METHOD:PUBLISH
X-WR-CALNAME:Science for Georgia
X-ORIGINAL-URL:https://scienceforgeorgia.org
X-WR-CALDESC:Events for Science for Georgia
REFRESH-INTERVAL;VALUE=DURATION:PT1H
X-Robots-Tag:noindex
X-PUBLISHED-TTL:PT1H
BEGIN:VTIMEZONE
TZID:America/New_York
BEGIN:DAYLIGHT
TZOFFSETFROM:-0500
TZOFFSETTO:-0400
TZNAME:EDT
DTSTART:20240310T070000
END:DAYLIGHT
BEGIN:STANDARD
TZOFFSETFROM:-0400
TZOFFSETTO:-0500
TZNAME:EST
DTSTART:20241103T060000
END:STANDARD
BEGIN:DAYLIGHT
TZOFFSETFROM:-0500
TZOFFSETTO:-0400
TZNAME:EDT
DTSTART:20250309T070000
END:DAYLIGHT
BEGIN:STANDARD
TZOFFSETFROM:-0400
TZOFFSETTO:-0500
TZNAME:EST
DTSTART:20251102T060000
END:STANDARD
BEGIN:DAYLIGHT
TZOFFSETFROM:-0500
TZOFFSETTO:-0400
TZNAME:EDT
DTSTART:20260308T070000
END:DAYLIGHT
BEGIN:STANDARD
TZOFFSETFROM:-0400
TZOFFSETTO:-0500
TZNAME:EST
DTSTART:20261101T060000
END:STANDARD
END:VTIMEZONE
BEGIN:VEVENT
DTSTART;TZID=America/New_York:20250322T130000
DTEND;TZID=America/New_York:20250322T150000
DTSTAMP:20260422T135624
CREATED:20250318T153537Z
LAST-MODIFIED:20250318T153537Z
UID:10000298-1742648400-1742655600@scienceforgeorgia.org
SUMMARY:Emergency Preparedness Workshop
DESCRIPTION:This Event is Sold Out! See you on Saturday!\nEmergency Preparedness Kit Workshop\nSalem-Panola Library \n5137 Salem Road\nStonecrest\, GA  30038 \n1pm – 3pm \nWith the uncertainty of future storms and emergencies\, it is important for your household to be prepared. \nLearn how to pack an “emergency bag” to have the basics when you need them. \n  \nEach family will receive a starter bag and some of the supplies you will need. \n  \nCheck out our Emergency Preparedness page to start working on your plan and get the supply checklist.
URL:https://scienceforgeorgia.org/event/emergency-preparedness-workshop/
LOCATION:Salem-Panola Library\, 5137 Salem Rd\, Stonecrest\, Georgia\, 30038
CATEGORIES:Community Event
ATTACH;FMTTYPE=image/png:https://scienceforgeorgia.org/wp-content/uploads/2025/03/Emercengy-Preparadness-Kits-Workshop.png
ORGANIZER;CN="Science for Georgia%2C Inc.":MAILTO:info@sci4ga.org
END:VEVENT
END:VCALENDAR