BEGIN:VCALENDAR
VERSION:2.0
PRODID:-//Science for Georgia - ECPv6.15.20//NONSGML v1.0//EN
CALSCALE:GREGORIAN
METHOD:PUBLISH
X-ORIGINAL-URL:https://scienceforgeorgia.org
X-WR-CALDESC:Events for Science for Georgia
REFRESH-INTERVAL;VALUE=DURATION:PT1H
X-Robots-Tag:noindex
X-PUBLISHED-TTL:PT1H
BEGIN:VTIMEZONE
TZID:America/New_York
BEGIN:DAYLIGHT
TZOFFSETFROM:-0500
TZOFFSETTO:-0400
TZNAME:EDT
DTSTART:20230312T070000
END:DAYLIGHT
BEGIN:STANDARD
TZOFFSETFROM:-0400
TZOFFSETTO:-0500
TZNAME:EST
DTSTART:20231105T060000
END:STANDARD
BEGIN:DAYLIGHT
TZOFFSETFROM:-0500
TZOFFSETTO:-0400
TZNAME:EDT
DTSTART:20240310T070000
END:DAYLIGHT
BEGIN:STANDARD
TZOFFSETFROM:-0400
TZOFFSETTO:-0500
TZNAME:EST
DTSTART:20241103T060000
END:STANDARD
BEGIN:DAYLIGHT
TZOFFSETFROM:-0500
TZOFFSETTO:-0400
TZNAME:EDT
DTSTART:20250309T070000
END:DAYLIGHT
BEGIN:STANDARD
TZOFFSETFROM:-0400
TZOFFSETTO:-0500
TZNAME:EST
DTSTART:20251102T060000
END:STANDARD
END:VTIMEZONE
BEGIN:VEVENT
DTSTART;TZID=America/New_York:20241006T130000
DTEND;TZID=America/New_York:20241006T150000
DTSTAMP:20260425T001724
CREATED:20240920T193041Z
LAST-MODIFIED:20240920T204019Z
UID:10000147-1728219600-1728226800@scienceforgeorgia.org
SUMMARY:Climate Survival Training: Sustainable Homegrown Protein Sources
DESCRIPTION:Climate Survival Training: Sustainable Homegrown Protein Sources (BUGS) \n## Oct 6th 1 pm – 3 pm \n### CreateATL \n900 Murphy Ave SW\, Atlanta\, Georgia 30310 \n\nThis Climate Survival event is a production of Science for Georgia.\nIt is free and open to the public.\nSeating is on a first-come basis.\nDonations are appreciated.\nThe presentation gets under way around 1pm.\nLocation: CreateATL\, 900 Murphy Ave SW\, Atlanta\, Georgia 30310\n\nInsect farming can produce efficient\, shelf-stable\, and sustainable protein without taking up the space of a farm. Our friends at WunderGrubs make a business out of this using just a couple shipping containers! Insects are healthy to eat\, highly nutritious\, used as a significant food source by millions worldwide\, and cut down by orders of magnitude on environmental impacts compared to animal protein farming practices. You don’t have to eat bugs! You can eat bug related products that aren’t buggy at all! They create protein powder which is great in smoothies\, pastas\, sauces\, etc! Its easy and fun! \nCome learn with us at CreateATL on Sunday\, Oct 6th at 1pm! We will be led around the facility at WunderGrubs by founder Akissi Stokes to learn together about this sustainable resilient food source! \nFree admission and parking in the neighborhood! \n  \n\n\nSpeaker\n\n\n\n\n\nAkissi Stokes-Nelson\, Co-Founder at WunderGrubs\n\n\nWe’re Akissi and Karim\, founders of WunderGrubs. The idea for WunderGrubs sparked years ago one night while we were watching Anthony Bourdain: No Reservations\, Haiti.\nIt inspired us to seek out a protein food source that provides people with the sustenance they need after a climatic shock and once the food relief trucks leave. Yet\, requires very few agricultural inputs such as water\, electricity\, feed\, and land which were typically scarce after such an occurrence. \n\n\n\n\n\n\n\n\n\n\n\n\n\n\n\nFill out my LGL Form!
URL:https://scienceforgeorgia.org/event/climate-survival-training-sustainable-homegrown-protein-sources/
LOCATION:CreateATL\, 900 Murphy Ave SW\, Atlanta\, GA\, 30310
CATEGORIES:Climate Survival Training,Partner Event
ATTACH;FMTTYPE=image/jpeg:https://scienceforgeorgia.org/wp-content/uploads/2024/09/600_517577517.jpeg
ORGANIZER;CN="Science for Georgia%2C Inc.":MAILTO:info@sci4ga.org
END:VEVENT
END:VCALENDAR