BEGIN:VCALENDAR
VERSION:2.0
PRODID:-//Science for Georgia - ECPv6.15.20//NONSGML v1.0//EN
CALSCALE:GREGORIAN
METHOD:PUBLISH
X-ORIGINAL-URL:https://scienceforgeorgia.org
X-WR-CALDESC:Events for Science for Georgia
REFRESH-INTERVAL;VALUE=DURATION:PT1H
X-Robots-Tag:noindex
X-PUBLISHED-TTL:PT1H
BEGIN:VTIMEZONE
TZID:America/New_York
BEGIN:DAYLIGHT
TZOFFSETFROM:-0500
TZOFFSETTO:-0400
TZNAME:EDT
DTSTART:20240310T070000
END:DAYLIGHT
BEGIN:STANDARD
TZOFFSETFROM:-0400
TZOFFSETTO:-0500
TZNAME:EST
DTSTART:20241103T060000
END:STANDARD
BEGIN:DAYLIGHT
TZOFFSETFROM:-0500
TZOFFSETTO:-0400
TZNAME:EDT
DTSTART:20250309T070000
END:DAYLIGHT
BEGIN:STANDARD
TZOFFSETFROM:-0400
TZOFFSETTO:-0500
TZNAME:EST
DTSTART:20251102T060000
END:STANDARD
BEGIN:DAYLIGHT
TZOFFSETFROM:-0500
TZOFFSETTO:-0400
TZNAME:EDT
DTSTART:20260308T070000
END:DAYLIGHT
BEGIN:STANDARD
TZOFFSETFROM:-0400
TZOFFSETTO:-0500
TZNAME:EST
DTSTART:20261101T060000
END:STANDARD
END:VTIMEZONE
BEGIN:VEVENT
DTSTART;VALUE=DATE:20250612
DTEND;VALUE=DATE:20250614
DTSTAMP:20260421T114253
CREATED:20250127T023747Z
LAST-MODIFIED:20250422T204025Z
UID:10000290-1749686400-1749859199@scienceforgeorgia.org
SUMMARY:2025 - Environmental Justice & Climate Protection Conference
DESCRIPTION:Our fourth annual Environmental Justice and Climate Protection Conference! \nThis conference brings together community leaders\, concerned citizens\, elected officials\, academics\, and industry experts to break information silos through information sharing focused on identifying solutions to heal and improve the health and environment of all Georgians. \nAttendees receive solutions-oriented information on the dimensions of environmental health that impact Georgia residents. With sessions on environmental justice impacts\, translating knowledge into action\, and community coalition building\, we discuss\, and more importantly\, actively brainstorm\, what community work can be done right now to move the needle on improving environmental health. \nLearn more here.
URL:https://scienceforgeorgia.org/event/2025-enviornmental-justice-climate-protection-conference/
LOCATION:Holiday Inn Conference Center\, 1805 West Hill Ave.\, Valdosta\, 31601\, United States
ATTACH;FMTTYPE=image/png:https://scienceforgeorgia.org/wp-content/uploads/2024/05/EJCP-Logo-no-year-2048x740-1.png
END:VEVENT
END:VCALENDAR