BEGIN:VCALENDAR
VERSION:2.0
PRODID:-//Science for Georgia - ECPv6.15.20//NONSGML v1.0//EN
CALSCALE:GREGORIAN
METHOD:PUBLISH
X-WR-CALNAME:Science for Georgia
X-ORIGINAL-URL:https://scienceforgeorgia.org
X-WR-CALDESC:Events for Science for Georgia
REFRESH-INTERVAL;VALUE=DURATION:PT1H
X-Robots-Tag:noindex
X-PUBLISHED-TTL:PT1H
BEGIN:VTIMEZONE
TZID:America/New_York
BEGIN:DAYLIGHT
TZOFFSETFROM:-0500
TZOFFSETTO:-0400
TZNAME:EDT
DTSTART:20230312T070000
END:DAYLIGHT
BEGIN:STANDARD
TZOFFSETFROM:-0400
TZOFFSETTO:-0500
TZNAME:EST
DTSTART:20231105T060000
END:STANDARD
BEGIN:DAYLIGHT
TZOFFSETFROM:-0500
TZOFFSETTO:-0400
TZNAME:EDT
DTSTART:20240310T070000
END:DAYLIGHT
BEGIN:STANDARD
TZOFFSETFROM:-0400
TZOFFSETTO:-0500
TZNAME:EST
DTSTART:20241103T060000
END:STANDARD
BEGIN:DAYLIGHT
TZOFFSETFROM:-0500
TZOFFSETTO:-0400
TZNAME:EDT
DTSTART:20250309T070000
END:DAYLIGHT
BEGIN:STANDARD
TZOFFSETFROM:-0400
TZOFFSETTO:-0500
TZNAME:EST
DTSTART:20251102T060000
END:STANDARD
END:VTIMEZONE
BEGIN:VEVENT
DTSTART;TZID=America/New_York:20241010T180000
DTEND;TZID=America/New_York:20241010T193000
DTSTAMP:20260422T074023
CREATED:20240918T181114Z
LAST-MODIFIED:20240918T201134Z
UID:10000146-1728583200-1728588600@scienceforgeorgia.org
SUMMARY:Panel on Environmental Justice and Climate Anxiety
DESCRIPTION:Date: Thursday\, Oct 10th \nTime: 6pm \nLocation: 1534 Memorial Drive SE\, Atlanta\, GA 30317 \nTitle: A Panel on Environmental Justice and Climate Anxiety \nDescription: A discussion with local climate scientists\, social justice leaders\, and land restoration experts\, to envision climate adaptation and coping mechanisms in community with each other. \nWe hope to bring together diverse professionals working toward different kinds of environmental justice here in the Southeast to learn how they tackle these issues\, and how we can incorporate these climate change adaptation\, mitigation\, & resiliency efforts\, and coping strategies\, into our own work and communities. \nHosted by Science for Georgia and Unearthing Farm \nEJPanel1 Unearthing
URL:https://scienceforgeorgia.org/event/panel-on-environmental-justice-and-climate-anxiety/
LOCATION:Unearthing Farms\, 1534 Memorial Dr SE\, Atlanta\, Georgia\, 30317
CATEGORIES:Community Event,Partner Event
ATTACH;FMTTYPE=image/png:https://scienceforgeorgia.org/wp-content/uploads/2024/09/EJ-Panel-2024-1.png
ORGANIZER;CN="Science for Georgia%2C Inc.":MAILTO:info@sci4ga.org
END:VEVENT
END:VCALENDAR