BEGIN:VCALENDAR
VERSION:2.0
PRODID:-//Science for Georgia - ECPv6.15.20//NONSGML v1.0//EN
CALSCALE:GREGORIAN
METHOD:PUBLISH
X-WR-CALNAME:Science for Georgia
X-ORIGINAL-URL:https://scienceforgeorgia.org
X-WR-CALDESC:Events for Science for Georgia
REFRESH-INTERVAL;VALUE=DURATION:PT1H
X-Robots-Tag:noindex
X-PUBLISHED-TTL:PT1H
BEGIN:VTIMEZONE
TZID:America/New_York
BEGIN:DAYLIGHT
TZOFFSETFROM:-0500
TZOFFSETTO:-0400
TZNAME:EDT
DTSTART:20230312T070000
END:DAYLIGHT
BEGIN:STANDARD
TZOFFSETFROM:-0400
TZOFFSETTO:-0500
TZNAME:EST
DTSTART:20231105T060000
END:STANDARD
BEGIN:DAYLIGHT
TZOFFSETFROM:-0500
TZOFFSETTO:-0400
TZNAME:EDT
DTSTART:20240310T070000
END:DAYLIGHT
BEGIN:STANDARD
TZOFFSETFROM:-0400
TZOFFSETTO:-0500
TZNAME:EST
DTSTART:20241103T060000
END:STANDARD
BEGIN:DAYLIGHT
TZOFFSETFROM:-0500
TZOFFSETTO:-0400
TZNAME:EDT
DTSTART:20250309T070000
END:DAYLIGHT
BEGIN:STANDARD
TZOFFSETFROM:-0400
TZOFFSETTO:-0500
TZNAME:EST
DTSTART:20251102T060000
END:STANDARD
END:VTIMEZONE
BEGIN:VEVENT
DTSTART;TZID=America/New_York:20241003T190000
DTEND;TZID=America/New_York:20241003T210000
DTSTAMP:20260421T091418
CREATED:20240508T181113Z
LAST-MODIFIED:20240927T181021Z
UID:10000074-1727982000-1727989200@scienceforgeorgia.org
SUMMARY:Georgia Science Junction – Are Crypto and AI a Sustainable Future?
DESCRIPTION:*Rescheduled from Sept 26th to Oct 3rd due to Hurricane Helene*\nAll tickets purchased for previous date will be honored for the new date. If you can not attend the new date\, please contact us at patrick.ryan@sci4ga.org for a refund. Please stay safe during this inclement weather. \nOctober 3rd\, 7pm – 9pm \nIn-Person and Streaming \nLocation: Lounge Area\, Wild Heaven\, West End\, 1010 White St SW\, Atlanta\, GA 30310 \nFeatured Speakers: Vijay Madisetti\, Fellow IEEE\, AIIA and Xiao Huang\, Ph.D.\, \n \nAre Crypto and AI a Sustainable Future? \nIn current practice\, Crypto Mining and Artificial Intelligence algorithms are very power hungry. \nWe just turned on two new reactors at Plant Vogle and 1 Plant Vogle Reactor (1.2 MW) can serve 1.2 million households OR about 6 Data Centers. As our power bills keep rising\, and average humans look for ways to lower their energy consumption\, will Crypto and AI gobble-up the gains we are making? Fortunately\, researchers are working on new\, energy-efficient algorithms. Join us to learn why the current practice is so very hungry and about new algorithms that can provide the same\, or better\, computation at a fraction of the power usage. \n  \n\n\n\n\nMore About Our Speakers: \nVijay Madisetti\, Fellow IEEE\, AIIA\, Professor @ Georgia Tech\, Cybersecurity and Privacy (SCP)\, College of Computing.\n\n\n\n\n\nVijay Madisetti earned a Bachelor of Technology (Honors) degree from the Indian Institute of Technology (IIT)\, Kharagpur\, India\, in Electronics and Electrical Communications Engineering in 1984. Following this\, he went to the University of California at Berkeley where he earned a Ph.D. in Electrical Engineering and Computer Sciences in 1989. \nDr. Madisetti joined the ECE faculty at Georgia Tech in 1989. He leads several research and educational programs at Georgia Tech in the area of digital signal processing\, embedded computing systems\, chip design\, wireless and telecom systems\, and systems engineering. He has authored or edited several books\, including VLSI Digital Signal Processors (1995) and the Digital Signal Processing Handbook (Second Edition\, 2010). He is also a frequent consultant to the industry. \nDr. Madisetti is a Fellow of the IEEE and was awarded the 2006 Frederick Emmons Terman Medal by the American Society of Engineering Education (ASEE) and HP Corporations for his contributions to electrical engineering. He is currently serving on several campus initiatives\, and is the Executive Director of Georgia Tech’s India Initiative. Dr. Madisetti also received the Georgia Tech Doctoral Thesis Advisor Award from Georgia Tech in 2001. \n\n\n\nXiao Huang\, Ph.D.\, Assistant Professor\, Department of Environmental Sciences\, Emory University \n\n\n\nDr. Huang’s research primarily focuses on human-environment interaction\, computational social sciences\, vulnerability and resilience\, urban informatics\, disaster mapping and mitigation\, GeoAI and deep learning\, and disaster remote sensing. Different from traditional geospatial analysis\, his research takes advantage of rapidly growing data availability through the utilization of emerging\, innovative data sources and the development of advanced geospatial analytical techniques to address existing/future challenges in disaster studies (e.g.\, real-time monitoring\, assessment\, and mitigation) and human society (e.g.\, human behaviors\, vulnerability\, and inequity) from Big Data and spatiotemporal perspectives. He built an academic career integrating his research and wide‐reaching public service while engaging with communities\, particularly socially disadvantaged communities.\n\n\n\n\nGSJ Sept
URL:https://scienceforgeorgia.org/event/georgia-science-junction-september/
LOCATION:Wild Heaven\, West End\, 1010 White St SW\, Atlanta\, GA\, 30310
CATEGORIES:Georgia Science Junction
ATTACH;FMTTYPE=image/jpeg:https://scienceforgeorgia.org/wp-content/uploads/2024/05/GSJ-Event-Graphic-Science-for-Georgia.jpg
END:VEVENT
END:VCALENDAR