BEGIN:VCALENDAR
VERSION:2.0
PRODID:-//Science for Georgia - ECPv6.15.20//NONSGML v1.0//EN
CALSCALE:GREGORIAN
METHOD:PUBLISH
X-WR-CALNAME:Science for Georgia
X-ORIGINAL-URL:https://scienceforgeorgia.org
X-WR-CALDESC:Events for Science for Georgia
REFRESH-INTERVAL;VALUE=DURATION:PT1H
X-Robots-Tag:noindex
X-PUBLISHED-TTL:PT1H
BEGIN:VTIMEZONE
TZID:America/New_York
BEGIN:DAYLIGHT
TZOFFSETFROM:-0500
TZOFFSETTO:-0400
TZNAME:EDT
DTSTART:20240310T070000
END:DAYLIGHT
BEGIN:STANDARD
TZOFFSETFROM:-0400
TZOFFSETTO:-0500
TZNAME:EST
DTSTART:20241103T060000
END:STANDARD
BEGIN:DAYLIGHT
TZOFFSETFROM:-0500
TZOFFSETTO:-0400
TZNAME:EDT
DTSTART:20250309T070000
END:DAYLIGHT
BEGIN:STANDARD
TZOFFSETFROM:-0400
TZOFFSETTO:-0500
TZNAME:EST
DTSTART:20251102T060000
END:STANDARD
BEGIN:DAYLIGHT
TZOFFSETFROM:-0500
TZOFFSETTO:-0400
TZNAME:EDT
DTSTART:20260308T070000
END:DAYLIGHT
BEGIN:STANDARD
TZOFFSETFROM:-0400
TZOFFSETTO:-0500
TZNAME:EST
DTSTART:20261101T060000
END:STANDARD
END:VTIMEZONE
BEGIN:VEVENT
DTSTART;TZID=America/New_York:20251213T150000
DTEND;TZID=America/New_York:20251213T170000
DTSTAMP:20260421T073630
CREATED:20251201T163601Z
LAST-MODIFIED:20251211T230856Z
UID:10000607-1765638000-1765645200@scienceforgeorgia.org
SUMMARY:CST: Get Crafty With It!
DESCRIPTION:Dec 13\, 2025\n3-5pm\nLake Claire Community Land Trust – 270 Arizona Ave NE\, Atlanta\, GA 30307 \nGet crafty in time for the holidays! Learn to sew a button and mend a seam – all while making your very own fun ornament. Our very own Amy and Michael will be leading a sewing class. \nThis is going to become our monthly event at the same location to keep educating ourselves and sharing skills while also mingling\, growing our connections\, and talking about our needs and visions for a more stable future. Come hang out! \n  \n<noscript… href=”https://secure.lglforms.com/form_engine/s/jHw5py_0pfAp0Cr67t8CZg”>Climate Survival Training
URL:https://scienceforgeorgia.org/event/cst-get-crafty-with-it/
LOCATION:Lake Claire Community Land Trust\, 270 Arizona Ave NE\, Atlanta\, GA\, 30307\, United States
CATEGORIES:Climate Survival Training
ATTACH;FMTTYPE=image/png:https://scienceforgeorgia.org/wp-content/uploads/2025/12/CSTmeetupFlyers_1sewing_2.png
END:VEVENT
END:VCALENDAR