BEGIN:VCALENDAR
VERSION:2.0
PRODID:-//Science for Georgia - ECPv6.15.20//NONSGML v1.0//EN
CALSCALE:GREGORIAN
METHOD:PUBLISH
X-ORIGINAL-URL:https://scienceforgeorgia.org
X-WR-CALDESC:Events for Science for Georgia
REFRESH-INTERVAL;VALUE=DURATION:PT1H
X-Robots-Tag:noindex
X-PUBLISHED-TTL:PT1H
BEGIN:VTIMEZONE
TZID:America/New_York
BEGIN:DAYLIGHT
TZOFFSETFROM:-0500
TZOFFSETTO:-0400
TZNAME:EDT
DTSTART:20240310T070000
END:DAYLIGHT
BEGIN:STANDARD
TZOFFSETFROM:-0400
TZOFFSETTO:-0500
TZNAME:EST
DTSTART:20241103T060000
END:STANDARD
BEGIN:DAYLIGHT
TZOFFSETFROM:-0500
TZOFFSETTO:-0400
TZNAME:EDT
DTSTART:20250309T070000
END:DAYLIGHT
BEGIN:STANDARD
TZOFFSETFROM:-0400
TZOFFSETTO:-0500
TZNAME:EST
DTSTART:20251102T060000
END:STANDARD
BEGIN:DAYLIGHT
TZOFFSETFROM:-0500
TZOFFSETTO:-0400
TZNAME:EDT
DTSTART:20260308T070000
END:DAYLIGHT
BEGIN:STANDARD
TZOFFSETFROM:-0400
TZOFFSETTO:-0500
TZNAME:EST
DTSTART:20261101T060000
END:STANDARD
END:VTIMEZONE
BEGIN:VEVENT
DTSTART;TZID=America/New_York:20251102T140000
DTEND;TZID=America/New_York:20251102T160000
DTSTAMP:20260421T080017
CREATED:20251029T213608Z
LAST-MODIFIED:20251029T213608Z
UID:10000524-1762092000-1762099200@scienceforgeorgia.org
SUMMARY:CST: Work2Learn: Growing Edible Mushrooms at Home
DESCRIPTION:Work2Learn: Growing Edible Mushrooms at Home: Let’s Inoculate Some Logs!\nDate: Sunday\, Nov 2nd \nTime: 2-4pm \nLocation: Eco Sun Farms\, 1490 High Haven Ct. NE\, Atlanta\, GA 30329 \n  \nJoin us on Sunday November 2nd from 2pm to 4pm\, we will have a SPOOKY mushroom log inoculation session to help out Eco Sun Farms start their mushroom growing up. 
URL:https://scienceforgeorgia.org/event/cst-work2learn-growing-edible-mushrooms-at-home/
LOCATION:Eco Sun Farms\, 1490 High Haven Ct. NE\, Atlanta\, GA\, 30329\, United States
ATTACH;FMTTYPE=image/png:https://scienceforgeorgia.org/wp-content/uploads/2025/10/CST-ecosun-nov2.png
END:VEVENT
BEGIN:VEVENT
DTSTART;TZID=America/New_York:20251109T140000
DTEND;TZID=America/New_York:20251109T160000
DTSTAMP:20260421T080017
CREATED:20251029T214023Z
LAST-MODIFIED:20251104T011850Z
UID:10000525-1762696800-1762704000@scienceforgeorgia.org
SUMMARY:CST: Work2Learn: Build a Wall
DESCRIPTION:Work2Learn: Build a Wall\nDate: Sunday\, Nov 9th \nTime: 2-4pm \nLocation: Eco Sun Farms\, 1490 High Haven Ct. NE\, Atlanta\, GA 30329 \n  \nJoin us on Sunday Nov 9th from 2pm to 4pm we will be back at Eco Sun Farms learning to build a wall! You see the mutual benefit here? Get a physical sense of what it takes to build structural functional stuff! and build an actual useful wall in a cool shed! \nClimate Survival Training
URL:https://scienceforgeorgia.org/event/cst-work2learn-build-a-wall/
LOCATION:Eco Sun Farms\, 1490 High Haven Ct. NE\, Atlanta\, GA\, 30329\, United States
CATEGORIES:Climate Survival Training
ATTACH;FMTTYPE=image/png:https://scienceforgeorgia.org/wp-content/uploads/2025/10/CST-ecosun-nov9.png
END:VEVENT
BEGIN:VEVENT
DTSTART;TZID=America/New_York:20251115T110000
DTEND;TZID=America/New_York:20251115T160000
DTSTAMP:20260421T080017
CREATED:20251030T210104Z
LAST-MODIFIED:20251030T210824Z
UID:10000527-1763204400-1763222400@scienceforgeorgia.org
SUMMARY:Autumn atlFREEfair
DESCRIPTION:Date: November 15th\, 11am – 4pm \nLocation: The Friendship Center\, 737 Woodland Ave\, SE\, Atlanta\, GA 30316 \nOn Saturday Nov 15th from 11am to 4pm at the Friendship Center (great name) will be the next atlFREEfair! \nWe (sci4ga) are bringing the Go-Bags training\, and leading a conversation about building inclusive community (and maybe podmapping??)\, and also will have a table setup to discuss skillshares and survival trainings throughout! Come hang out or sign up volunteer at bit.ly/VOLUNTEERaff \n 
URL:https://scienceforgeorgia.org/event/autumn-atlfreefair/
LOCATION:The Friendship Center\, 737 Woodland Ave\, SE\, Atlanta\, GA\, 30316\, United States
CATEGORIES:Climate Survival Training,Community Event
ATTACH;FMTTYPE=image/jpeg:https://scienceforgeorgia.org/wp-content/uploads/2025/10/The-Autumn-atlFREEfair-is-a-month-awayJoin-us-for-a-day-of-connection-and-community-care-at-the.jpg
END:VEVENT
END:VCALENDAR