BEGIN:VCALENDAR
VERSION:2.0
PRODID:-//Science for Georgia - ECPv6.15.20//NONSGML v1.0//EN
CALSCALE:GREGORIAN
METHOD:PUBLISH
X-WR-CALNAME:Science for Georgia
X-ORIGINAL-URL:https://scienceforgeorgia.org
X-WR-CALDESC:Events for Science for Georgia
REFRESH-INTERVAL;VALUE=DURATION:PT1H
X-Robots-Tag:noindex
X-PUBLISHED-TTL:PT1H
BEGIN:VTIMEZONE
TZID:America/New_York
BEGIN:DAYLIGHT
TZOFFSETFROM:-0500
TZOFFSETTO:-0400
TZNAME:EDT
DTSTART:20230312T070000
END:DAYLIGHT
BEGIN:STANDARD
TZOFFSETFROM:-0400
TZOFFSETTO:-0500
TZNAME:EST
DTSTART:20231105T060000
END:STANDARD
BEGIN:DAYLIGHT
TZOFFSETFROM:-0500
TZOFFSETTO:-0400
TZNAME:EDT
DTSTART:20240310T070000
END:DAYLIGHT
BEGIN:STANDARD
TZOFFSETFROM:-0400
TZOFFSETTO:-0500
TZNAME:EST
DTSTART:20241103T060000
END:STANDARD
BEGIN:DAYLIGHT
TZOFFSETFROM:-0500
TZOFFSETTO:-0400
TZNAME:EDT
DTSTART:20250309T070000
END:DAYLIGHT
BEGIN:STANDARD
TZOFFSETFROM:-0400
TZOFFSETTO:-0500
TZNAME:EST
DTSTART:20251102T060000
END:STANDARD
END:VTIMEZONE
BEGIN:VEVENT
DTSTART;TZID=America/New_York:20241117T120000
DTEND;TZID=America/New_York:20241117T140000
DTSTAMP:20260422T182252
CREATED:20241031T175650Z
LAST-MODIFIED:20241108T143943Z
UID:10000152-1731844800-1731852000@scienceforgeorgia.org
SUMMARY:Climate Survival Training: A Harvest of Knowledge
DESCRIPTION:Join us with our friends from Unearthing Farms as they walk us through the lessons learned from this year’s farming experience. \nClimate Survival Training: A Harvest of Knowledge \nAlternative food sources are a key element to resilient and strong communities and our partner\, Unearthing Farm & Market\, has been setting a great example. In this next Climate Survival Training we will gain rare insights to their operations\, learning what worked and what didn’t work for them this year! This is valuable knowledge for all levels of expertise\, and will be mirrored by a session about plans for the next season in the early spring of 2025! Dive in! \nDate: Sunday\, November 17th\, 2024 \nTime: 12pm \nLocation: \nUnearthing Farm & Market \n1534 Memorial Dr SE\, Atlanta\, GA 30317 \nCost: free \nParking: free lot\, ample \nEJ Forum
URL:https://scienceforgeorgia.org/event/climate-survival-training-a-harvest-of-knowledge/
LOCATION:Unearthing Farms\, 1534 Memorial Dr SE\, Atlanta\, Georgia\, 30317
CATEGORIES:Climate Survival Training
ATTACH;FMTTYPE=image/png:https://scienceforgeorgia.org/wp-content/uploads/2024/10/November-CST-Harvest-of-Knowledge.png
ORGANIZER;CN="Science for Georgia%2C Inc.":MAILTO:info@sci4ga.org
END:VEVENT
END:VCALENDAR