BEGIN:VCALENDAR
VERSION:2.0
PRODID:-//Science for Georgia - ECPv6.15.20//NONSGML v1.0//EN
CALSCALE:GREGORIAN
METHOD:PUBLISH
X-ORIGINAL-URL:https://scienceforgeorgia.org
X-WR-CALDESC:Events for Science for Georgia
REFRESH-INTERVAL;VALUE=DURATION:PT1H
X-Robots-Tag:noindex
X-PUBLISHED-TTL:PT1H
BEGIN:VTIMEZONE
TZID:America/New_York
BEGIN:DAYLIGHT
TZOFFSETFROM:-0500
TZOFFSETTO:-0400
TZNAME:EDT
DTSTART:20210314T070000
END:DAYLIGHT
BEGIN:STANDARD
TZOFFSETFROM:-0400
TZOFFSETTO:-0500
TZNAME:EST
DTSTART:20211107T060000
END:STANDARD
BEGIN:DAYLIGHT
TZOFFSETFROM:-0500
TZOFFSETTO:-0400
TZNAME:EDT
DTSTART:20220313T070000
END:DAYLIGHT
BEGIN:STANDARD
TZOFFSETFROM:-0400
TZOFFSETTO:-0500
TZNAME:EST
DTSTART:20221106T060000
END:STANDARD
BEGIN:DAYLIGHT
TZOFFSETFROM:-0500
TZOFFSETTO:-0400
TZNAME:EDT
DTSTART:20230312T070000
END:DAYLIGHT
BEGIN:STANDARD
TZOFFSETFROM:-0400
TZOFFSETTO:-0500
TZNAME:EST
DTSTART:20231105T060000
END:STANDARD
END:VTIMEZONE
BEGIN:VEVENT
DTSTART;TZID=America/New_York:20220816T113000
DTEND;TZID=America/New_York:20220816T130000
DTSTAMP:20260424T202103
CREATED:20220801T010539Z
LAST-MODIFIED:20220801T010539Z
UID:10000051-1660649400-1660654800@scienceforgeorgia.org
SUMMARY:Legislative Roundup
DESCRIPTION:The Georgia General Assembly wrapped up it’s 2-year session in April. Science was present in some bills and absent in others.  \n\n\n\nWe need your input\, as members of the science and friend-of-science community\, on what was good\, and what was bad\, and what was missing.
URL:https://scienceforgeorgia.org/event/legislative-roundup/
LOCATION:1 EJ Hazardous Waste Map by Cierra and Jacob
CATEGORIES:Partner Event
END:VEVENT
END:VCALENDAR