BEGIN:VCALENDAR
VERSION:2.0
PRODID:-//Science for Georgia - ECPv6.15.20//NONSGML v1.0//EN
CALSCALE:GREGORIAN
METHOD:PUBLISH
X-ORIGINAL-URL:https://scienceforgeorgia.org
X-WR-CALDESC:Events for Science for Georgia
REFRESH-INTERVAL;VALUE=DURATION:PT1H
X-Robots-Tag:noindex
X-PUBLISHED-TTL:PT1H
BEGIN:VTIMEZONE
TZID:America/New_York
BEGIN:DAYLIGHT
TZOFFSETFROM:-0500
TZOFFSETTO:-0400
TZNAME:EDT
DTSTART:20250309T070000
END:DAYLIGHT
BEGIN:STANDARD
TZOFFSETFROM:-0400
TZOFFSETTO:-0500
TZNAME:EST
DTSTART:20251102T060000
END:STANDARD
BEGIN:DAYLIGHT
TZOFFSETFROM:-0500
TZOFFSETTO:-0400
TZNAME:EDT
DTSTART:20260308T070000
END:DAYLIGHT
BEGIN:STANDARD
TZOFFSETFROM:-0400
TZOFFSETTO:-0500
TZNAME:EST
DTSTART:20261101T060000
END:STANDARD
BEGIN:DAYLIGHT
TZOFFSETFROM:-0500
TZOFFSETTO:-0400
TZNAME:EDT
DTSTART:20270314T070000
END:DAYLIGHT
BEGIN:STANDARD
TZOFFSETFROM:-0400
TZOFFSETTO:-0500
TZNAME:EST
DTSTART:20271107T060000
END:STANDARD
END:VTIMEZONE
BEGIN:VEVENT
DTSTART;TZID=America/New_York:20260502T100000
DTEND;TZID=America/New_York:20260502T130000
DTSTAMP:20260423T181613
CREATED:20260423T221031Z
LAST-MODIFIED:20260423T221031Z
UID:10000867-1777716000-1777726800@scienceforgeorgia.org
SUMMARY:CST: Compost 101
DESCRIPTION:May 2nd\, 2026\n10am-1pm\nDoghead Farm\n1103 Birch Street SW\, Atlanta\, GA 30310 \nCome learn about composting with our friends at Concrete Jungle! In order to self-sustain in agriculture practices\, keeping the nutrients cycling into our soil is a key step. And create less food waste that breaks down into more harmful greenhouse gasses in landfills! Grow cool plants and eat cool food! \nWe will be going over the ins-and-outs of how compost works\, how to start your own compost\, and practice some hands on techniques using our 3-bin compost system at our farm. We invite you to stick around after the workshop to volunteer on our farm! \nSchedule:\n10am – 11am: Compost 101 with Sci4GA\n11am – 1pm: Farm day \nConcrete jungle has a signup form here
URL:https://scienceforgeorgia.org/event/cst-compost-101/
LOCATION:Doghead Farm\, 1103 Birch Street SW\, Atlanta\, GA\, 30310\, United States
CATEGORIES:Climate Survival Training,Partner Event
ATTACH;FMTTYPE=image/png:https://scienceforgeorgia.org/wp-content/uploads/2026/04/cstCompostMay2026.png
END:VEVENT
END:VCALENDAR