BEGIN:VCALENDAR
VERSION:2.0
PRODID:-//Science for Georgia - ECPv6.15.20//NONSGML v1.0//EN
CALSCALE:GREGORIAN
METHOD:PUBLISH
X-WR-CALNAME:Science for Georgia
X-ORIGINAL-URL:https://scienceforgeorgia.org
X-WR-CALDESC:Events for Science for Georgia
REFRESH-INTERVAL;VALUE=DURATION:PT1H
X-Robots-Tag:noindex
X-PUBLISHED-TTL:PT1H
BEGIN:VTIMEZONE
TZID:America/New_York
BEGIN:DAYLIGHT
TZOFFSETFROM:-0500
TZOFFSETTO:-0400
TZNAME:EDT
DTSTART:20240310T070000
END:DAYLIGHT
BEGIN:STANDARD
TZOFFSETFROM:-0400
TZOFFSETTO:-0500
TZNAME:EST
DTSTART:20241103T060000
END:STANDARD
BEGIN:DAYLIGHT
TZOFFSETFROM:-0500
TZOFFSETTO:-0400
TZNAME:EDT
DTSTART:20250309T070000
END:DAYLIGHT
BEGIN:STANDARD
TZOFFSETFROM:-0400
TZOFFSETTO:-0500
TZNAME:EST
DTSTART:20251102T060000
END:STANDARD
BEGIN:DAYLIGHT
TZOFFSETFROM:-0500
TZOFFSETTO:-0400
TZNAME:EDT
DTSTART:20260308T070000
END:DAYLIGHT
BEGIN:STANDARD
TZOFFSETFROM:-0400
TZOFFSETTO:-0500
TZNAME:EST
DTSTART:20261101T060000
END:STANDARD
END:VTIMEZONE
BEGIN:VEVENT
DTSTART;TZID=America/New_York:20250426T110000
DTEND;TZID=America/New_York:20250426T140000
DTSTAMP:20260423T203509
CREATED:20250403T173753Z
LAST-MODIFIED:20250403T173753Z
UID:10000303-1745665200-1745676000@scienceforgeorgia.org
SUMMARY:CBWW Earth Day Celebration
DESCRIPTION:Earth Day Celebration\n\nApril 26 @ 11:00 am – 2:00 pm\n\n\n\n\nOne thing we all have in common is that we call Earth our home. \nOur Earth Day Celebration is currently in the works! This is one of our largest events at CBWW where we will host workshops\, provide giveaways\, hold activities\, and offer health services. The Earth Day Celebration has been postponed to April 26th.  \nCommunity members can register here.  \nQuestions or concerns? Email Gillian\, the Wellness Program Coordinator\, at gsmith@cbww.org. \n\n\nScience for Georgia will have a table! See you there!
URL:https://scienceforgeorgia.org/event/cbww-earth-day-celebration/
LOCATION:Dunbar Recreation Center\, 477 Windsor St SW\, Atlanta\, GA\, 30312\, United States
CATEGORIES:Community Event,Partner Event
ATTACH;FMTTYPE=image/png:https://scienceforgeorgia.org/wp-content/uploads/2025/04/Screenshot-2025-04-03-132231.png
END:VEVENT
END:VCALENDAR