BEGIN:VCALENDAR
VERSION:2.0
PRODID:-//Science for Georgia - ECPv6.15.20//NONSGML v1.0//EN
CALSCALE:GREGORIAN
METHOD:PUBLISH
X-WR-CALNAME:Science for Georgia
X-ORIGINAL-URL:https://scienceforgeorgia.org
X-WR-CALDESC:Events for Science for Georgia
REFRESH-INTERVAL;VALUE=DURATION:PT1H
X-Robots-Tag:noindex
X-PUBLISHED-TTL:PT1H
BEGIN:VTIMEZONE
TZID:America/New_York
BEGIN:DAYLIGHT
TZOFFSETFROM:-0500
TZOFFSETTO:-0400
TZNAME:EDT
DTSTART:20230312T070000
END:DAYLIGHT
BEGIN:STANDARD
TZOFFSETFROM:-0400
TZOFFSETTO:-0500
TZNAME:EST
DTSTART:20231105T060000
END:STANDARD
BEGIN:DAYLIGHT
TZOFFSETFROM:-0500
TZOFFSETTO:-0400
TZNAME:EDT
DTSTART:20240310T070000
END:DAYLIGHT
BEGIN:STANDARD
TZOFFSETFROM:-0400
TZOFFSETTO:-0500
TZNAME:EST
DTSTART:20241103T060000
END:STANDARD
BEGIN:DAYLIGHT
TZOFFSETFROM:-0500
TZOFFSETTO:-0400
TZNAME:EDT
DTSTART:20250309T070000
END:DAYLIGHT
BEGIN:STANDARD
TZOFFSETFROM:-0400
TZOFFSETTO:-0500
TZNAME:EST
DTSTART:20251102T060000
END:STANDARD
END:VTIMEZONE
BEGIN:VEVENT
DTSTART;TZID=America/New_York:20240127T100000
DTEND;TZID=America/New_York:20240127T120000
DTSTAMP:20260419T184334
CREATED:20240122T224404Z
LAST-MODIFIED:20240122T224404Z
UID:10000062-1706349600-1706356800@scienceforgeorgia.org
SUMMARY:Dekalb EJ Forum: Setting an Agenda
DESCRIPTION:A series of forums hosted by Rep Becky Evans\, New Life Community Alliance\, and Science for Georgia.  \n\n\n\nThe main goal of this series of forums is to work toward an agenda where the community is taking action and working together to get funding for needed infrastructure to improve their environment and health. \n\n\n\n\n\n\n\n\n\n\n\nEJ Forum
URL:https://scienceforgeorgia.org/event/dekalb-ej-forum/
LOCATION:20240311_192016
CATEGORIES:Special Event
END:VEVENT
END:VCALENDAR